BEGIN:VCALENDAR
VERSION:2.0
PRODID:-//WRBI Radio - ECPv6.15.17//NONSGML v1.0//EN
CALSCALE:GREGORIAN
METHOD:PUBLISH
X-WR-CALNAME:WRBI Radio
X-ORIGINAL-URL:https://wrbiradio.com
X-WR-CALDESC:Events for WRBI Radio
REFRESH-INTERVAL;VALUE=DURATION:PT1H
X-Robots-Tag:noindex
X-PUBLISHED-TTL:PT1H
BEGIN:VTIMEZONE
TZID:America/New_York
BEGIN:DAYLIGHT
TZOFFSETFROM:-0500
TZOFFSETTO:-0400
TZNAME:EDT
DTSTART:20240310T070000
END:DAYLIGHT
BEGIN:STANDARD
TZOFFSETFROM:-0400
TZOFFSETTO:-0500
TZNAME:EST
DTSTART:20241103T060000
END:STANDARD
BEGIN:DAYLIGHT
TZOFFSETFROM:-0500
TZOFFSETTO:-0400
TZNAME:EDT
DTSTART:20250309T070000
END:DAYLIGHT
BEGIN:STANDARD
TZOFFSETFROM:-0400
TZOFFSETTO:-0500
TZNAME:EST
DTSTART:20251102T060000
END:STANDARD
BEGIN:DAYLIGHT
TZOFFSETFROM:-0500
TZOFFSETTO:-0400
TZNAME:EDT
DTSTART:20260308T070000
END:DAYLIGHT
BEGIN:STANDARD
TZOFFSETFROM:-0400
TZOFFSETTO:-0500
TZNAME:EST
DTSTART:20261101T060000
END:STANDARD
END:VTIMEZONE
BEGIN:VEVENT
DTSTART;TZID=America/New_York:20250501T180000
DTEND;TZID=America/New_York:20250501T193000
DTSTAMP:20260421T130345
CREATED:20250113T184014Z
LAST-MODIFIED:20250113T184014Z
UID:358548-1746122400-1746127800@wrbiradio.com
SUMMARY:Caregiver Support Group
DESCRIPTION:Located at Margaret Mary Hospital (Main Campus) in Batesville\, this is the Batesville Dementia Caregivers Support Group\, sponsored by the Greater Cincinnati Alzheimer’s Association. This group will meet on the first Thursday of every month\, at 6:00 PM to 7:30 PM. Meetings are open to new attendees at any time\, no ongoing commitment is expected. For more information\, contact Ann Edwards at 812-213-0722 or email at ann@agingcare-solutions.com. 
URL:https://wrbiradio.com/event/caregiver-support-group-6/
LOCATION:Margaret Mary Health\, 321 Mitchell Ave\, Batesville\, IN\, 47006\, United States
END:VEVENT
BEGIN:VEVENT
DTSTART;TZID=America/New_York:20250506T170000
DTEND;TZID=America/New_York:20250506T190000
DTSTAMP:20260421T130345
CREATED:20250503T183607Z
LAST-MODIFIED:20250503T183607Z
UID:367802-1746550800-1746558000@wrbiradio.com
SUMMARY:EAT TO ENDALZ
DESCRIPTION:Eat in or take out to support the Batesville walk to end Alzheimer’s! \n10% of proceeds will go towards the walk! \n  \nWalk to End Alzheimer’s committee will be there 5-7 to help with getting signed up and win prizes.
URL:https://wrbiradio.com/event/eat-to-endalz/
LOCATION:Ison’s Family Pizza
END:VEVENT
END:VCALENDAR