BEGIN:VCALENDAR
VERSION:2.0
PRODID:-//WRBI Radio - ECPv6.15.17//NONSGML v1.0//EN
CALSCALE:GREGORIAN
METHOD:PUBLISH
X-WR-CALNAME:WRBI Radio
X-ORIGINAL-URL:https://wrbiradio.com
X-WR-CALDESC:Events for WRBI Radio
REFRESH-INTERVAL;VALUE=DURATION:PT1H
X-Robots-Tag:noindex
X-PUBLISHED-TTL:PT1H
BEGIN:VTIMEZONE
TZID:America/New_York
BEGIN:DAYLIGHT
TZOFFSETFROM:-0500
TZOFFSETTO:-0400
TZNAME:EDT
DTSTART:20250309T070000
END:DAYLIGHT
BEGIN:STANDARD
TZOFFSETFROM:-0400
TZOFFSETTO:-0500
TZNAME:EST
DTSTART:20251102T060000
END:STANDARD
BEGIN:DAYLIGHT
TZOFFSETFROM:-0500
TZOFFSETTO:-0400
TZNAME:EDT
DTSTART:20260308T070000
END:DAYLIGHT
BEGIN:STANDARD
TZOFFSETFROM:-0400
TZOFFSETTO:-0500
TZNAME:EST
DTSTART:20261101T060000
END:STANDARD
BEGIN:DAYLIGHT
TZOFFSETFROM:-0500
TZOFFSETTO:-0400
TZNAME:EDT
DTSTART:20270314T070000
END:DAYLIGHT
BEGIN:STANDARD
TZOFFSETFROM:-0400
TZOFFSETTO:-0500
TZNAME:EST
DTSTART:20271107T060000
END:STANDARD
END:VTIMEZONE
BEGIN:VEVENT
DTSTART;TZID=America/New_York:20260627T080000
DTEND;TZID=America/New_York:20260627T170000
DTSTAMP:20260421T142355
CREATED:20260408T173831Z
LAST-MODIFIED:20260408T173831Z
UID:392911-1782547200-1782579600@wrbiradio.com
SUMMARY:Tree City Rolling Tour & Century
DESCRIPTION:6 Route Choices\nFull Sag Support\nGreat Sag (Refreshment) Stops\nFull Lunch Provided\nHippie Fingers Band Will Play Live From 11:30Am – 2:30 PM\n\nHow To Register: \n\nGo To www.treecityrollingtour.org\nIn person at the YMCA\nRegister Day of Starting at 6:30AM\n\nDiscounts available at Holiday Inn & Suites & Hampton Inn & Suites (Mention YMCA Ride) (Showers are available at the YMCA after ride)
URL:https://wrbiradio.com/event/tree-city-rolling-tour-century/
LOCATION:Decatur County Family YMCA
END:VEVENT
END:VCALENDAR