BEGIN:VCALENDAR
VERSION:2.0
PRODID:-//WRBI Radio - ECPv6.15.17//NONSGML v1.0//EN
CALSCALE:GREGORIAN
METHOD:PUBLISH
X-WR-CALNAME:WRBI Radio
X-ORIGINAL-URL:https://wrbiradio.com
X-WR-CALDESC:Events for WRBI Radio
REFRESH-INTERVAL;VALUE=DURATION:PT1H
X-Robots-Tag:noindex
X-PUBLISHED-TTL:PT1H
BEGIN:VTIMEZONE
TZID:America/New_York
BEGIN:DAYLIGHT
TZOFFSETFROM:-0500
TZOFFSETTO:-0400
TZNAME:EDT
DTSTART:20250309T070000
END:DAYLIGHT
BEGIN:STANDARD
TZOFFSETFROM:-0400
TZOFFSETTO:-0500
TZNAME:EST
DTSTART:20251102T060000
END:STANDARD
BEGIN:DAYLIGHT
TZOFFSETFROM:-0500
TZOFFSETTO:-0400
TZNAME:EDT
DTSTART:20260308T070000
END:DAYLIGHT
BEGIN:STANDARD
TZOFFSETFROM:-0400
TZOFFSETTO:-0500
TZNAME:EST
DTSTART:20261101T060000
END:STANDARD
BEGIN:DAYLIGHT
TZOFFSETFROM:-0500
TZOFFSETTO:-0400
TZNAME:EDT
DTSTART:20270314T070000
END:DAYLIGHT
BEGIN:STANDARD
TZOFFSETFROM:-0400
TZOFFSETTO:-0500
TZNAME:EST
DTSTART:20271107T060000
END:STANDARD
END:VTIMEZONE
BEGIN:VEVENT
DTSTART;TZID=America/New_York:20260423T170000
DTEND;TZID=America/New_York:20260423T190000
DTSTAMP:20260423T020410
CREATED:20260417T121258Z
LAST-MODIFIED:20260417T121258Z
UID:395181-1776963600-1776970800@wrbiradio.com
SUMMARY:Rock the Block
DESCRIPTION:Good Shepherd Christian Academy invites families to Rock the Block! \nExplore the school with guided tours and see if Good Shepherd could be the right fit for your family. Enjoy a fun\, family-friendly evening with food trucks\, a bounce house\, touch-a-truck\, playground fun and a community resource fair featuring local summer activities for kids. \nThe event is free and open to everyone\, and no registration is required. \nLearn more at GSCAcademy.org and attend Rock the Block on April 23. \n 
URL:https://wrbiradio.com/event/rock-the-block/
LOCATION:Good Shepherd Christian Academy\, 209 W Washington St\, Greensburg\, IN\, 47240\, United States
END:VEVENT
END:VCALENDAR