BEGIN:VCALENDAR
VERSION:2.0
PRODID:-//WRBI Radio - ECPv6.15.17//NONSGML v1.0//EN
CALSCALE:GREGORIAN
METHOD:PUBLISH
X-WR-CALNAME:WRBI Radio
X-ORIGINAL-URL:https://wrbiradio.com
X-WR-CALDESC:Events for WRBI Radio
REFRESH-INTERVAL;VALUE=DURATION:PT1H
X-Robots-Tag:noindex
X-PUBLISHED-TTL:PT1H
BEGIN:VTIMEZONE
TZID:America/New_York
BEGIN:DAYLIGHT
TZOFFSETFROM:-0500
TZOFFSETTO:-0400
TZNAME:EDT
DTSTART:20250309T070000
END:DAYLIGHT
BEGIN:STANDARD
TZOFFSETFROM:-0400
TZOFFSETTO:-0500
TZNAME:EST
DTSTART:20251102T060000
END:STANDARD
BEGIN:DAYLIGHT
TZOFFSETFROM:-0500
TZOFFSETTO:-0400
TZNAME:EDT
DTSTART:20260308T070000
END:DAYLIGHT
BEGIN:STANDARD
TZOFFSETFROM:-0400
TZOFFSETTO:-0500
TZNAME:EST
DTSTART:20261101T060000
END:STANDARD
BEGIN:DAYLIGHT
TZOFFSETFROM:-0500
TZOFFSETTO:-0400
TZNAME:EDT
DTSTART:20270314T070000
END:DAYLIGHT
BEGIN:STANDARD
TZOFFSETFROM:-0400
TZOFFSETTO:-0500
TZNAME:EST
DTSTART:20271107T060000
END:STANDARD
END:VTIMEZONE
BEGIN:VEVENT
DTSTART;TZID=America/New_York:20260421T120000
DTEND;TZID=America/New_York:20260421T153000
DTSTAMP:20260421T014750
CREATED:20260306T183408Z
LAST-MODIFIED:20260306T183408Z
UID:389354-1776772800-1776785400@wrbiradio.com
SUMMARY:Blood Drive
DESCRIPTION:Saving Lives Closer to Home! \nEvery donor receives a Cincinnati Reds Windbreaker! \nTo schedule an appointment\, visit: hoxworth.org/groups/stanthony or call Hoxworth at (800) 830-1091 \n 
URL:https://wrbiradio.com/event/blood-drive/
LOCATION:Schad Hall\, 4773 Church Rd\, Morris\, Indiana\, 47033\, United States
END:VEVENT
BEGIN:VEVENT
DTSTART;TZID=America/New_York:20260421T180000
DTEND;TZID=America/New_York:20260421T190000
DTSTAMP:20260421T014750
CREATED:20260121T183003Z
LAST-MODIFIED:20260121T183003Z
UID:386032-1776794400-1776798000@wrbiradio.com
SUMMARY:Operation Parent - Session 4: Emotional and Mental Health
DESCRIPTION:Anxiety\, Depression\, Self-harm\, Suicide\, Eating Disorders\, and more. \nRefreshments provided. \nDoor Prize & More! \nFor more information\, call the Decatur County Court Services\, Juvenile Probation & Prevention at 812-663-3790.
URL:https://wrbiradio.com/event/operation-parent-session-4-emotional-and-mental-health/
LOCATION:Greensburg Learning Center\, 422 E Central Ave.\, Greensburg\, IN\, 47240\, United States
END:VEVENT
END:VCALENDAR