BEGIN:VCALENDAR
VERSION:2.0
PRODID:-//WRBI Radio - ECPv6.15.17//NONSGML v1.0//EN
CALSCALE:GREGORIAN
METHOD:PUBLISH
X-WR-CALNAME:WRBI Radio
X-ORIGINAL-URL:https://wrbiradio.com
X-WR-CALDESC:Events for WRBI Radio
REFRESH-INTERVAL;VALUE=DURATION:PT1H
X-Robots-Tag:noindex
X-PUBLISHED-TTL:PT1H
BEGIN:VTIMEZONE
TZID:America/New_York
BEGIN:DAYLIGHT
TZOFFSETFROM:-0500
TZOFFSETTO:-0400
TZNAME:EDT
DTSTART:20250309T070000
END:DAYLIGHT
BEGIN:STANDARD
TZOFFSETFROM:-0400
TZOFFSETTO:-0500
TZNAME:EST
DTSTART:20251102T060000
END:STANDARD
BEGIN:DAYLIGHT
TZOFFSETFROM:-0500
TZOFFSETTO:-0400
TZNAME:EDT
DTSTART:20260308T070000
END:DAYLIGHT
BEGIN:STANDARD
TZOFFSETFROM:-0400
TZOFFSETTO:-0500
TZNAME:EST
DTSTART:20261101T060000
END:STANDARD
BEGIN:DAYLIGHT
TZOFFSETFROM:-0500
TZOFFSETTO:-0400
TZNAME:EDT
DTSTART:20270314T070000
END:DAYLIGHT
BEGIN:STANDARD
TZOFFSETFROM:-0400
TZOFFSETTO:-0500
TZNAME:EST
DTSTART:20271107T060000
END:STANDARD
END:VTIMEZONE
BEGIN:VEVENT
DTSTART;TZID=America/New_York:20260207T100000
DTEND;TZID=America/New_York:20260207T233000
DTSTAMP:20260421T095243
CREATED:20260130T194430Z
LAST-MODIFIED:20260130T194430Z
UID:386834-1770458400-1770507000@wrbiradio.com
SUMMARY:Tree City Kids Fair - Reading\, Crafts\, & Adventure
DESCRIPTION:This FREE community event is designed for children ages ~3–8 and their families\, highlighting the importance of early exposure to reading\, arts\, and culture—while also connecting parents with helpful programs and resources for their young children\, all in one welcoming space! \nJoin for… \nThree engaging story times featuring local gust readers \nHands on crafts\, activities\, and a local cultural adventure bucket list to take home \nPhoto Booth fun for kids and families \nLocal organizations sharing helpful resources and programming for parents and caregivers \nMark your calendar\, invite a friend\, and get ready for a joyful morning of learning and fun.
URL:https://wrbiradio.com/event/tree-city-kids-fair-reading-crafts-adventure/
LOCATION:Greensburg Decatur County Public Library\, 1110 E. Main St.\, Greensburg\, IN\, 47240\, United States
END:VEVENT
END:VCALENDAR