BEGIN:VCALENDAR
VERSION:2.0
PRODID:-//WRBI Radio - ECPv6.15.17//NONSGML v1.0//EN
CALSCALE:GREGORIAN
METHOD:PUBLISH
X-WR-CALNAME:WRBI Radio
X-ORIGINAL-URL:https://wrbiradio.com
X-WR-CALDESC:Events for WRBI Radio
REFRESH-INTERVAL;VALUE=DURATION:PT1H
X-Robots-Tag:noindex
X-PUBLISHED-TTL:PT1H
BEGIN:VTIMEZONE
TZID:America/New_York
BEGIN:DAYLIGHT
TZOFFSETFROM:-0500
TZOFFSETTO:-0400
TZNAME:EDT
DTSTART:20250309T070000
END:DAYLIGHT
BEGIN:STANDARD
TZOFFSETFROM:-0400
TZOFFSETTO:-0500
TZNAME:EST
DTSTART:20251102T060000
END:STANDARD
BEGIN:DAYLIGHT
TZOFFSETFROM:-0500
TZOFFSETTO:-0400
TZNAME:EDT
DTSTART:20260308T070000
END:DAYLIGHT
BEGIN:STANDARD
TZOFFSETFROM:-0400
TZOFFSETTO:-0500
TZNAME:EST
DTSTART:20261101T060000
END:STANDARD
BEGIN:DAYLIGHT
TZOFFSETFROM:-0500
TZOFFSETTO:-0400
TZNAME:EDT
DTSTART:20270314T070000
END:DAYLIGHT
BEGIN:STANDARD
TZOFFSETFROM:-0400
TZOFFSETTO:-0500
TZNAME:EST
DTSTART:20271107T060000
END:STANDARD
END:VTIMEZONE
BEGIN:VEVENT
DTSTART;TZID=America/New_York:20260124T090000
DTEND;TZID=America/New_York:20260124T180000
DTSTAMP:20260421T130256
CREATED:20260116T194658Z
LAST-MODIFIED:20260116T194658Z
UID:385657-1769245200-1769277600@wrbiradio.com
SUMMARY:Winter Rummage Sale
DESCRIPTION:Something for everyone and priced to sell! \nHouse wars\, Clothing\, Toys\, Shoes\, Purses\, Furniture\, and much more! \nDrop off Dates: \n\nJan 16\, 4-8\nJam 17\, 11-3\nJan 18\, 11-3\n\nOn Saturday Clothing $2/bag is provided – everything else is half off \n 
URL:https://wrbiradio.com/event/winter-rummage-sale/
LOCATION:St. Anthony Catholic Church\, 4773 Church Rd\, Morris\, IN\, 47006\, United States
END:VEVENT
END:VCALENDAR