BEGIN:VCALENDAR
VERSION:2.0
PRODID:-//WRBI Radio - ECPv6.15.17//NONSGML v1.0//EN
CALSCALE:GREGORIAN
METHOD:PUBLISH
X-WR-CALNAME:WRBI Radio
X-ORIGINAL-URL:https://wrbiradio.com
X-WR-CALDESC:Events for WRBI Radio
REFRESH-INTERVAL;VALUE=DURATION:PT1H
X-Robots-Tag:noindex
X-PUBLISHED-TTL:PT1H
BEGIN:VTIMEZONE
TZID:America/New_York
BEGIN:DAYLIGHT
TZOFFSETFROM:-0500
TZOFFSETTO:-0400
TZNAME:EDT
DTSTART:20250309T070000
END:DAYLIGHT
BEGIN:STANDARD
TZOFFSETFROM:-0400
TZOFFSETTO:-0500
TZNAME:EST
DTSTART:20251102T060000
END:STANDARD
BEGIN:DAYLIGHT
TZOFFSETFROM:-0500
TZOFFSETTO:-0400
TZNAME:EDT
DTSTART:20260308T070000
END:DAYLIGHT
BEGIN:STANDARD
TZOFFSETFROM:-0400
TZOFFSETTO:-0500
TZNAME:EST
DTSTART:20261101T060000
END:STANDARD
BEGIN:DAYLIGHT
TZOFFSETFROM:-0500
TZOFFSETTO:-0400
TZNAME:EDT
DTSTART:20270314T070000
END:DAYLIGHT
BEGIN:STANDARD
TZOFFSETFROM:-0400
TZOFFSETTO:-0500
TZNAME:EST
DTSTART:20271107T060000
END:STANDARD
END:VTIMEZONE
BEGIN:VEVENT
DTSTART;TZID=America/New_York:20260123T090000
DTEND;TZID=America/New_York:20260123T180000
DTSTAMP:20260421T142355
CREATED:20260116T194801Z
LAST-MODIFIED:20260116T194801Z
UID:385659-1769158800-1769191200@wrbiradio.com
SUMMARY:Winter Rummage Sale
DESCRIPTION:Something for everyone and priced to sell! \nHouse wars\, Clothing\, Toys\, Shoes\, Purses\, Furniture\, and much more! \nDrop off Dates: \n\nJan 16\, 4-8\nJam 17\, 11-3\nJan 18\, 11-3
URL:https://wrbiradio.com/event/winter-rummage-sale-2/
LOCATION:St. Anthony Catholic Church\, 4773 Church Rd\, Morris\, IN\, 47006\, United States
END:VEVENT
BEGIN:VEVENT
DTSTART;TZID=America/New_York:20260123T170000
DTEND;TZID=America/New_York:20260123T190000
DTSTAMP:20260421T142355
CREATED:20251230T192653Z
LAST-MODIFIED:20251230T192653Z
UID:384214-1769187600-1769194800@wrbiradio.com
SUMMARY:Fireside Chicken Dinner - North Decatur Lady Charger Basketball Fundraiser
DESCRIPTION:Dinner served prior to the North Decatur Boys’ Game vs Morristown.  \nServing time: 5-7 PM \nLocation: North Decatur High School Cafeteria  \nDine In or Take Out  \n$12 for 3-piece meal\, $10 for 2-piece meal\nIncludes chicken\, sides\, desserts\, and drinks.  \nFree will donations always appreciated.  \nProceeds go directly to help fund the North Decatur Lady Charger Basketball program. 
URL:https://wrbiradio.com/event/fireside-chicken-dinner-north-decatur-lady-charger-basketball-fundraiser/
LOCATION:North Decatur High School\, 3172 IN-3\, Greensburg\, IN\, 47240\, United States
END:VEVENT
END:VCALENDAR