BEGIN:VCALENDAR
VERSION:2.0
PRODID:-//WRBI Radio - ECPv6.15.17//NONSGML v1.0//EN
CALSCALE:GREGORIAN
METHOD:PUBLISH
X-WR-CALNAME:WRBI Radio
X-ORIGINAL-URL:https://wrbiradio.com
X-WR-CALDESC:Events for WRBI Radio
REFRESH-INTERVAL;VALUE=DURATION:PT1H
X-Robots-Tag:noindex
X-PUBLISHED-TTL:PT1H
BEGIN:VTIMEZONE
TZID:America/New_York
BEGIN:DAYLIGHT
TZOFFSETFROM:-0500
TZOFFSETTO:-0400
TZNAME:EDT
DTSTART:20240310T070000
END:DAYLIGHT
BEGIN:STANDARD
TZOFFSETFROM:-0400
TZOFFSETTO:-0500
TZNAME:EST
DTSTART:20241103T060000
END:STANDARD
BEGIN:DAYLIGHT
TZOFFSETFROM:-0500
TZOFFSETTO:-0400
TZNAME:EDT
DTSTART:20250309T070000
END:DAYLIGHT
BEGIN:STANDARD
TZOFFSETFROM:-0400
TZOFFSETTO:-0500
TZNAME:EST
DTSTART:20251102T060000
END:STANDARD
BEGIN:DAYLIGHT
TZOFFSETFROM:-0500
TZOFFSETTO:-0400
TZNAME:EDT
DTSTART:20260308T070000
END:DAYLIGHT
BEGIN:STANDARD
TZOFFSETFROM:-0400
TZOFFSETTO:-0500
TZNAME:EST
DTSTART:20261101T060000
END:STANDARD
END:VTIMEZONE
BEGIN:VEVENT
DTSTART;TZID=America/New_York:20251216T160000
DTEND;TZID=America/New_York:20251216T180000
DTSTAMP:20260422T020914
CREATED:20251215T150519Z
LAST-MODIFIED:20251215T150519Z
UID:383275-1765900800-1765908000@wrbiradio.com
SUMMARY:Cocoa & Cookies @ Your Co-Op!
DESCRIPTION:Join Decatur County REMC for cocoa\, cookies\, and more at the Decatur County REMC Community Room! \nEnjoy kids’ crafts\, prizes\, and a special appearance from Santa.
URL:https://wrbiradio.com/event/cocoa-cookies-your-co-op/
LOCATION:Decatur County REMC\, 1430 W Main St\, Greensburg\, IN\, 47240\, United States
END:VEVENT
BEGIN:VEVENT
DTSTART;TZID=America/New_York:20251216T180000
DTEND;TZID=America/New_York:20251216T190000
DTSTAMP:20260422T020914
CREATED:20251215T140300Z
LAST-MODIFIED:20251215T140300Z
UID:383258-1765908000-1765911600@wrbiradio.com
SUMMARY:Food Growers Association Holiday Community Gathering
DESCRIPTION:Back by popular demand!\nDecember FGA Holiday Community Gathering.\nDecember 16th \, 6:00pm \, at the home of Chris and Laura Ault. (Address: 435 South Main Street\, Batesville\, IN)\nAll are welcome. Please bring a dish to share – preferably using farm fresh local ingredients if possible.\nBring your own table service and cup.\nWe hope you will join us. Gathering around a shared table reminds us of what truly matters: connection\, care\, and the strength we create when we understand the power of our fork.\nPlease text/call RSVP to:Chris Ault: (812) 212-9396Kathy Cooley: 812-212-2605
URL:https://wrbiradio.com/event/food-growers-association-holiday-community-gathering/
LOCATION:IN
END:VEVENT
END:VCALENDAR