BEGIN:VCALENDAR
VERSION:2.0
PRODID:-//WRBI Radio - ECPv6.15.17//NONSGML v1.0//EN
CALSCALE:GREGORIAN
METHOD:PUBLISH
X-WR-CALNAME:WRBI Radio
X-ORIGINAL-URL:https://wrbiradio.com
X-WR-CALDESC:Events for WRBI Radio
REFRESH-INTERVAL;VALUE=DURATION:PT1H
X-Robots-Tag:noindex
X-PUBLISHED-TTL:PT1H
BEGIN:VTIMEZONE
TZID:America/New_York
BEGIN:DAYLIGHT
TZOFFSETFROM:-0500
TZOFFSETTO:-0400
TZNAME:EDT
DTSTART:20240310T070000
END:DAYLIGHT
BEGIN:STANDARD
TZOFFSETFROM:-0400
TZOFFSETTO:-0500
TZNAME:EST
DTSTART:20241103T060000
END:STANDARD
BEGIN:DAYLIGHT
TZOFFSETFROM:-0500
TZOFFSETTO:-0400
TZNAME:EDT
DTSTART:20250309T070000
END:DAYLIGHT
BEGIN:STANDARD
TZOFFSETFROM:-0400
TZOFFSETTO:-0500
TZNAME:EST
DTSTART:20251102T060000
END:STANDARD
BEGIN:DAYLIGHT
TZOFFSETFROM:-0500
TZOFFSETTO:-0400
TZNAME:EDT
DTSTART:20260308T070000
END:DAYLIGHT
BEGIN:STANDARD
TZOFFSETFROM:-0400
TZOFFSETTO:-0500
TZNAME:EST
DTSTART:20261101T060000
END:STANDARD
END:VTIMEZONE
BEGIN:VEVENT
DTSTART;TZID=America/New_York:20251214T073000
DTEND;TZID=America/New_York:20251214T120000
DTSTAMP:20260421T231410
CREATED:20251208T132507Z
LAST-MODIFIED:20251208T132507Z
UID:382695-1765697400-1765713600@wrbiradio.com
SUMMARY:Whole Hog Sausage Breakfast
DESCRIPTION:All you can eat for a free will offering! \nBest sausage ever!\nScrambled Eggs\nPancakes\nBiscuits & Gravy\nFried Potatoes\nCoffee \nJuice \nBring the kids to see SANTA! \nThere will be a “Toys for Tots” donation box. 
URL:https://wrbiradio.com/event/whole-hog-sausage-breakfast/
LOCATION:American Legion Post 464 St. Leon\, 28866 Post 464 Rd\, Brookville\, IN\, 47012\, United States
END:VEVENT
BEGIN:VEVENT
DTSTART;TZID=America/New_York:20251214T120000
DTEND;TZID=America/New_York:20251214T160000
DTSTAMP:20260421T231410
CREATED:20250917T021745Z
LAST-MODIFIED:20251212T154147Z
UID:377428-1765713600-1765728000@wrbiradio.com
SUMMARY:CANCELED - Euchre Tournament
DESCRIPTION:A Euchre Tournament will be held at American Legion Post 452\, New Alsace on Sunday\, December 14\, 2025. Doors open at 12:00 noon and games begin at 1:00 p.m. Entry fee is $5. Cash payout to the four highest scores. Refreshments available for purchase. Tournaments held monthly. For more information call 812-623-3695. \n 
URL:https://wrbiradio.com/event/euchre-tournament-3/
LOCATION:American Legion Post 452\, New Alsace\, 25329 Legion Rd.\, Sunman\, IN\, 47041\, United States
END:VEVENT
END:VCALENDAR