BEGIN:VCALENDAR
VERSION:2.0
PRODID:-//WRBI Radio - ECPv6.15.17//NONSGML v1.0//EN
CALSCALE:GREGORIAN
METHOD:PUBLISH
X-WR-CALNAME:WRBI Radio
X-ORIGINAL-URL:https://wrbiradio.com
X-WR-CALDESC:Events for WRBI Radio
REFRESH-INTERVAL;VALUE=DURATION:PT1H
X-Robots-Tag:noindex
X-PUBLISHED-TTL:PT1H
BEGIN:VTIMEZONE
TZID:America/New_York
BEGIN:DAYLIGHT
TZOFFSETFROM:-0500
TZOFFSETTO:-0400
TZNAME:EDT
DTSTART:20240310T070000
END:DAYLIGHT
BEGIN:STANDARD
TZOFFSETFROM:-0400
TZOFFSETTO:-0500
TZNAME:EST
DTSTART:20241103T060000
END:STANDARD
BEGIN:DAYLIGHT
TZOFFSETFROM:-0500
TZOFFSETTO:-0400
TZNAME:EDT
DTSTART:20250309T070000
END:DAYLIGHT
BEGIN:STANDARD
TZOFFSETFROM:-0400
TZOFFSETTO:-0500
TZNAME:EST
DTSTART:20251102T060000
END:STANDARD
BEGIN:DAYLIGHT
TZOFFSETFROM:-0500
TZOFFSETTO:-0400
TZNAME:EDT
DTSTART:20260308T070000
END:DAYLIGHT
BEGIN:STANDARD
TZOFFSETFROM:-0400
TZOFFSETTO:-0500
TZNAME:EST
DTSTART:20261101T060000
END:STANDARD
END:VTIMEZONE
BEGIN:VEVENT
DTSTART;TZID=America/New_York:20251127T090000
DTEND;TZID=America/New_York:20251127T100000
DTSTAMP:20260421T082259
CREATED:20250923T141325Z
LAST-MODIFIED:20250923T141325Z
UID:377868-1764234000-1764237600@wrbiradio.com
SUMMARY:Gobble Wobble 5K
DESCRIPTION:https://runsignup.com/Race/IN/StLeon/THEGOBBLEWOBBLE \nEverybody wants to help those in need on Thanksgiving Day; here is a way to do just that! All Saints Parish coordinates an offering of donations and in-person run/walk for the Sunman\, North Dearborn\, and East Central High School Food Pantries who are tremendous providers of food to the needy in Dearborn and Ripley County. Help them help others- all the profits of this run/walk benefit these local food pantries.
URL:https://wrbiradio.com/event/gobble-wobble-5k-2/
LOCATION:All Saints Parish\, St. John the Baptist Church\, 25743 St. Rd 1\, Guilford\, IN\, United States
END:VEVENT
END:VCALENDAR