BEGIN:VCALENDAR
VERSION:2.0
PRODID:-//WRBI Radio - ECPv6.15.17//NONSGML v1.0//EN
CALSCALE:GREGORIAN
METHOD:PUBLISH
X-WR-CALNAME:WRBI Radio
X-ORIGINAL-URL:https://wrbiradio.com
X-WR-CALDESC:Events for WRBI Radio
REFRESH-INTERVAL;VALUE=DURATION:PT1H
X-Robots-Tag:noindex
X-PUBLISHED-TTL:PT1H
BEGIN:VTIMEZONE
TZID:America/New_York
BEGIN:DAYLIGHT
TZOFFSETFROM:-0500
TZOFFSETTO:-0400
TZNAME:EDT
DTSTART:20240310T070000
END:DAYLIGHT
BEGIN:STANDARD
TZOFFSETFROM:-0400
TZOFFSETTO:-0500
TZNAME:EST
DTSTART:20241103T060000
END:STANDARD
BEGIN:DAYLIGHT
TZOFFSETFROM:-0500
TZOFFSETTO:-0400
TZNAME:EDT
DTSTART:20250309T070000
END:DAYLIGHT
BEGIN:STANDARD
TZOFFSETFROM:-0400
TZOFFSETTO:-0500
TZNAME:EST
DTSTART:20251102T060000
END:STANDARD
BEGIN:DAYLIGHT
TZOFFSETFROM:-0500
TZOFFSETTO:-0400
TZNAME:EDT
DTSTART:20260308T070000
END:DAYLIGHT
BEGIN:STANDARD
TZOFFSETFROM:-0400
TZOFFSETTO:-0500
TZNAME:EST
DTSTART:20261101T060000
END:STANDARD
END:VTIMEZONE
BEGIN:VEVENT
DTSTART;VALUE=DATE:20251122
DTEND;VALUE=DATE:20251123
DTSTAMP:20260421T082259
CREATED:20250924T203248Z
LAST-MODIFIED:20250924T203248Z
UID:378026-1763769600-1763855999@wrbiradio.com
SUMMARY:Veterans Quilt Exhibit
DESCRIPTION:Patriotic quilt display at the Batesville Public Library \nDesigned and crafted by Batesville Quiltmakers \nExhibit open to the public during library business hours through November 30th.  \n  \n 
URL:https://wrbiradio.com/event/veterans-quilt-exhibit-22/
LOCATION:Batesville Memorial Public Library\, 131 N. Walnut St.\, BATESVILLE\, IN\, 47006\, United States
END:VEVENT
BEGIN:VEVENT
DTSTART;TZID=America/New_York:20251122T100000
DTEND;TZID=America/New_York:20251122T110000
DTSTAMP:20260421T082259
CREATED:20251016T190952Z
LAST-MODIFIED:20251016T190952Z
UID:379547-1763805600-1763809200@wrbiradio.com
SUMMARY:Santa Day!
DESCRIPTION:Family program.
URL:https://wrbiradio.com/event/santa-day-2/
LOCATION:Greensburg-Decatur County Public Library
END:VEVENT
BEGIN:VEVENT
DTSTART;TZID=America/New_York:20251122T100000
DTEND;TZID=America/New_York:20251122T120000
DTSTAMP:20260421T082259
CREATED:20251016T185159Z
LAST-MODIFIED:20251016T185159Z
UID:379488-1763805600-1763812800@wrbiradio.com
SUMMARY:Santa Day at the Greensburg Decatur County Public Library
DESCRIPTION:
URL:https://wrbiradio.com/event/santa-day-at-the-greensburg-decatur-county-public-library/
LOCATION:Greensburg Decatur County Public Library\, 1110 E. Main St.\, Greensburg\, IN\, 47240\, United States
END:VEVENT
END:VCALENDAR