BEGIN:VCALENDAR
VERSION:2.0
PRODID:-//WRBI Radio - ECPv6.15.17//NONSGML v1.0//EN
CALSCALE:GREGORIAN
METHOD:PUBLISH
X-WR-CALNAME:WRBI Radio
X-ORIGINAL-URL:https://wrbiradio.com
X-WR-CALDESC:Events for WRBI Radio
REFRESH-INTERVAL;VALUE=DURATION:PT1H
X-Robots-Tag:noindex
X-PUBLISHED-TTL:PT1H
BEGIN:VTIMEZONE
TZID:America/New_York
BEGIN:DAYLIGHT
TZOFFSETFROM:-0500
TZOFFSETTO:-0400
TZNAME:EDT
DTSTART:20240310T070000
END:DAYLIGHT
BEGIN:STANDARD
TZOFFSETFROM:-0400
TZOFFSETTO:-0500
TZNAME:EST
DTSTART:20241103T060000
END:STANDARD
BEGIN:DAYLIGHT
TZOFFSETFROM:-0500
TZOFFSETTO:-0400
TZNAME:EDT
DTSTART:20250309T070000
END:DAYLIGHT
BEGIN:STANDARD
TZOFFSETFROM:-0400
TZOFFSETTO:-0500
TZNAME:EST
DTSTART:20251102T060000
END:STANDARD
BEGIN:DAYLIGHT
TZOFFSETFROM:-0500
TZOFFSETTO:-0400
TZNAME:EDT
DTSTART:20260308T070000
END:DAYLIGHT
BEGIN:STANDARD
TZOFFSETFROM:-0400
TZOFFSETTO:-0500
TZNAME:EST
DTSTART:20261101T060000
END:STANDARD
END:VTIMEZONE
BEGIN:VEVENT
DTSTART;VALUE=DATE:20251120
DTEND;VALUE=DATE:20251121
DTSTAMP:20260421T082242
CREATED:20250924T195711Z
LAST-MODIFIED:20250924T195711Z
UID:378022-1763596800-1763683199@wrbiradio.com
SUMMARY:Veterans Quilt Exhibit
DESCRIPTION:Patriotic quilt display at the Batesville Public Library \nDesigned and crafted by Batesville Quiltmakers \nExhibit open to the public during library business hours through November 30th.  \n  \n 
URL:https://wrbiradio.com/event/veterans-quilt-exhibit-20/
LOCATION:Batesville Memorial Public Library\, 131 N. Walnut St.\, BATESVILLE\, IN\, 47006\, United States
END:VEVENT
BEGIN:VEVENT
DTSTART;TZID=America/New_York:20251120T093000
DTEND;TZID=America/New_York:20251120T103000
DTSTAMP:20260421T082242
CREATED:20251016T190806Z
LAST-MODIFIED:20251016T190806Z
UID:379506-1763631000-1763634600@wrbiradio.com
SUMMARY:Toddler Time
DESCRIPTION:Weekly storytime for toddlers and caregivers. Occurs every Wednesday and Thursday at 9:30 AM.
URL:https://wrbiradio.com/event/toddler-time-7/
LOCATION:Greensburg-Decatur County Public Library
END:VEVENT
BEGIN:VEVENT
DTSTART;TZID=America/New_York:20251120T173000
DTEND;TZID=America/New_York:20251120T183000
DTSTAMP:20260421T082242
CREATED:20251016T190936Z
LAST-MODIFIED:20251016T190936Z
UID:379544-1763659800-1763663400@wrbiradio.com
SUMMARY:Cook the Book! Cookbook Club: See You on Sunday by Sam Sifton
DESCRIPTION:Adult program. Adults only.
URL:https://wrbiradio.com/event/cook-the-book-cookbook-club-see-you-on-sunday-by-sam-sifton/
LOCATION:Greensburg-Decatur County Public Library
END:VEVENT
END:VCALENDAR