BEGIN:VCALENDAR
VERSION:2.0
PRODID:-//WRBI Radio - ECPv6.15.17//NONSGML v1.0//EN
CALSCALE:GREGORIAN
METHOD:PUBLISH
X-WR-CALNAME:WRBI Radio
X-ORIGINAL-URL:https://wrbiradio.com
X-WR-CALDESC:Events for WRBI Radio
REFRESH-INTERVAL;VALUE=DURATION:PT1H
X-Robots-Tag:noindex
X-PUBLISHED-TTL:PT1H
BEGIN:VTIMEZONE
TZID:America/New_York
BEGIN:DAYLIGHT
TZOFFSETFROM:-0500
TZOFFSETTO:-0400
TZNAME:EDT
DTSTART:20240310T070000
END:DAYLIGHT
BEGIN:STANDARD
TZOFFSETFROM:-0400
TZOFFSETTO:-0500
TZNAME:EST
DTSTART:20241103T060000
END:STANDARD
BEGIN:DAYLIGHT
TZOFFSETFROM:-0500
TZOFFSETTO:-0400
TZNAME:EDT
DTSTART:20250309T070000
END:DAYLIGHT
BEGIN:STANDARD
TZOFFSETFROM:-0400
TZOFFSETTO:-0500
TZNAME:EST
DTSTART:20251102T060000
END:STANDARD
BEGIN:DAYLIGHT
TZOFFSETFROM:-0500
TZOFFSETTO:-0400
TZNAME:EDT
DTSTART:20260308T070000
END:DAYLIGHT
BEGIN:STANDARD
TZOFFSETFROM:-0400
TZOFFSETTO:-0500
TZNAME:EST
DTSTART:20261101T060000
END:STANDARD
END:VTIMEZONE
BEGIN:VEVENT
DTSTART;VALUE=DATE:20251119
DTEND;VALUE=DATE:20251120
DTSTAMP:20260421T082240
CREATED:20250924T195656Z
LAST-MODIFIED:20250924T195656Z
UID:378020-1763510400-1763596799@wrbiradio.com
SUMMARY:Veterans Quilt Exhibit
DESCRIPTION:Patriotic quilt display at the Batesville Public Library \nDesigned and crafted by Batesville Quiltmakers \nExhibit open to the public during library business hours through November 30th.  \n  \n 
URL:https://wrbiradio.com/event/veterans-quilt-exhibit-19/
LOCATION:Batesville Memorial Public Library\, 131 N. Walnut St.\, BATESVILLE\, IN\, 47006\, United States
END:VEVENT
BEGIN:VEVENT
DTSTART;TZID=America/New_York:20251119T093000
DTEND;TZID=America/New_York:20251119T103000
DTSTAMP:20260421T082240
CREATED:20251016T190803Z
LAST-MODIFIED:20251016T190803Z
UID:379505-1763544600-1763548200@wrbiradio.com
SUMMARY:Toddler Time
DESCRIPTION:Weekly storytime for toddlers and caregivers. Occurs every Wednesday and Thursday at 9:30 AM.
URL:https://wrbiradio.com/event/toddler-time-6/
LOCATION:Greensburg-Decatur County Public Library
END:VEVENT
BEGIN:VEVENT
DTSTART;TZID=America/New_York:20251119T103000
DTEND;TZID=America/New_York:20251119T113000
DTSTAMP:20260421T082240
CREATED:20251016T190808Z
LAST-MODIFIED:20251016T190808Z
UID:379510-1763548200-1763551800@wrbiradio.com
SUMMARY:Family Story Time
DESCRIPTION:Family storytime with stories\, songs\, and fun. Occurs every Wednesday at 10:30 AM.
URL:https://wrbiradio.com/event/family-story-time-3/
LOCATION:Greensburg-Decatur County Public Library
END:VEVENT
BEGIN:VEVENT
DTSTART;TZID=America/New_York:20251119T103000
DTEND;TZID=America/New_York:20251119T113000
DTSTAMP:20260421T082240
CREATED:20251016T190935Z
LAST-MODIFIED:20251016T190935Z
UID:379542-1763548200-1763551800@wrbiradio.com
SUMMARY:STEM Station Fair at Westport!
DESCRIPTION:Family program at the Westport Branch Library.
URL:https://wrbiradio.com/event/stem-station-fair-at-westport/
LOCATION:IN
END:VEVENT
BEGIN:VEVENT
DTSTART;TZID=America/New_York:20251119T171500
DTEND;TZID=America/New_York:20251119T181500
DTSTAMP:20260421T082240
CREATED:20251016T190936Z
LAST-MODIFIED:20251016T190936Z
UID:379543-1763572500-1763576100@wrbiradio.com
SUMMARY:Walk with a Doc!
DESCRIPTION:Adult program. Adults only.
URL:https://wrbiradio.com/event/walk-with-a-doc-3/
LOCATION:Greensburg-Decatur County Public Library
END:VEVENT
END:VCALENDAR