BEGIN:VCALENDAR
VERSION:2.0
PRODID:-//WRBI Radio - ECPv6.15.17//NONSGML v1.0//EN
CALSCALE:GREGORIAN
METHOD:PUBLISH
X-ORIGINAL-URL:https://wrbiradio.com
X-WR-CALDESC:Events for WRBI Radio
REFRESH-INTERVAL;VALUE=DURATION:PT1H
X-Robots-Tag:noindex
X-PUBLISHED-TTL:PT1H
BEGIN:VTIMEZONE
TZID:America/New_York
BEGIN:DAYLIGHT
TZOFFSETFROM:-0500
TZOFFSETTO:-0400
TZNAME:EDT
DTSTART:20240310T070000
END:DAYLIGHT
BEGIN:STANDARD
TZOFFSETFROM:-0400
TZOFFSETTO:-0500
TZNAME:EST
DTSTART:20241103T060000
END:STANDARD
BEGIN:DAYLIGHT
TZOFFSETFROM:-0500
TZOFFSETTO:-0400
TZNAME:EDT
DTSTART:20250309T070000
END:DAYLIGHT
BEGIN:STANDARD
TZOFFSETFROM:-0400
TZOFFSETTO:-0500
TZNAME:EST
DTSTART:20251102T060000
END:STANDARD
BEGIN:DAYLIGHT
TZOFFSETFROM:-0500
TZOFFSETTO:-0400
TZNAME:EDT
DTSTART:20260308T070000
END:DAYLIGHT
BEGIN:STANDARD
TZOFFSETFROM:-0400
TZOFFSETTO:-0500
TZNAME:EST
DTSTART:20261101T060000
END:STANDARD
END:VTIMEZONE
BEGIN:VEVENT
DTSTART;VALUE=DATE:20251116
DTEND;VALUE=DATE:20251117
DTSTAMP:20260421T082339
CREATED:20250924T195547Z
LAST-MODIFIED:20250924T195547Z
UID:378014-1763251200-1763337599@wrbiradio.com
SUMMARY:Veterans Quilt Exhibit
DESCRIPTION:Patriotic quilt display at the Batesville Public Library \nDesigned and crafted by Batesville Quiltmakers \nExhibit open to the public during library business hours through November 30th.  \n  \n 
URL:https://wrbiradio.com/event/veterans-quilt-exhibit-16/
LOCATION:Batesville Memorial Public Library\, 131 N. Walnut St.\, BATESVILLE\, IN\, 47006\, United States
END:VEVENT
BEGIN:VEVENT
DTSTART;TZID=America/New_York:20251116T120000
DTEND;TZID=America/New_York:20251116T160000
DTSTAMP:20260421T082339
CREATED:20250917T021714Z
LAST-MODIFIED:20250917T021714Z
UID:377427-1763294400-1763308800@wrbiradio.com
SUMMARY:Euchre Tournament
DESCRIPTION:A Euchre Tournament will be held at American Legion Post 452\, New Alsace on Sunday\, November 16\, 2025. Doors open at 12:00 noon and games begin at 1:00 p.m. Entry fee is $5. Cash payout to the four highest scores. Refreshments available for purchase. Tournaments held monthly. For more information call 812-623-3695. \n 
URL:https://wrbiradio.com/event/euchre-tournament-2/
LOCATION:American Legion Post 452\, New Alsace\, 25329 Legion Rd.\, Sunman\, IN\, 47041\, United States
END:VEVENT
END:VCALENDAR