BEGIN:VCALENDAR
VERSION:2.0
PRODID:-//WRBI Radio - ECPv6.15.17//NONSGML v1.0//EN
CALSCALE:GREGORIAN
METHOD:PUBLISH
X-ORIGINAL-URL:https://wrbiradio.com
X-WR-CALDESC:Events for WRBI Radio
REFRESH-INTERVAL;VALUE=DURATION:PT1H
X-Robots-Tag:noindex
X-PUBLISHED-TTL:PT1H
BEGIN:VTIMEZONE
TZID:America/New_York
BEGIN:DAYLIGHT
TZOFFSETFROM:-0500
TZOFFSETTO:-0400
TZNAME:EDT
DTSTART:20240310T070000
END:DAYLIGHT
BEGIN:STANDARD
TZOFFSETFROM:-0400
TZOFFSETTO:-0500
TZNAME:EST
DTSTART:20241103T060000
END:STANDARD
BEGIN:DAYLIGHT
TZOFFSETFROM:-0500
TZOFFSETTO:-0400
TZNAME:EDT
DTSTART:20250309T070000
END:DAYLIGHT
BEGIN:STANDARD
TZOFFSETFROM:-0400
TZOFFSETTO:-0500
TZNAME:EST
DTSTART:20251102T060000
END:STANDARD
BEGIN:DAYLIGHT
TZOFFSETFROM:-0500
TZOFFSETTO:-0400
TZNAME:EDT
DTSTART:20260308T070000
END:DAYLIGHT
BEGIN:STANDARD
TZOFFSETFROM:-0400
TZOFFSETTO:-0500
TZNAME:EST
DTSTART:20261101T060000
END:STANDARD
END:VTIMEZONE
BEGIN:VEVENT
DTSTART;VALUE=DATE:20251114
DTEND;VALUE=DATE:20251115
DTSTAMP:20260421T082251
CREATED:20250924T195455Z
LAST-MODIFIED:20250924T195455Z
UID:378010-1763078400-1763164799@wrbiradio.com
SUMMARY:Veterans Quilt Exhibit
DESCRIPTION:Patriotic quilt display at the Batesville Public Library \nDesigned and crafted by Batesville Quiltmakers \nExhibit open to the public during library business hours through November 30th.  \n  \n 
URL:https://wrbiradio.com/event/veterans-quilt-exhibit-14/
LOCATION:Batesville Memorial Public Library\, 131 N. Walnut St.\, BATESVILLE\, IN\, 47006\, United States
END:VEVENT
BEGIN:VEVENT
DTSTART;TZID=America/New_York:20251114T093000
DTEND;TZID=America/New_York:20251114T103000
DTSTAMP:20260421T082251
CREATED:20251016T190901Z
LAST-MODIFIED:20251016T190902Z
UID:379530-1763112600-1763116200@wrbiradio.com
SUMMARY:Get WalkIN with the Purdue Extension Office
DESCRIPTION:Adult program. Adults only.
URL:https://wrbiradio.com/event/get-walkin-with-the-purdue-extension-office-2/
LOCATION:Greensburg-Decatur County Public Library
END:VEVENT
BEGIN:VEVENT
DTSTART;TZID=America/New_York:20251114T103000
DTEND;TZID=America/New_York:20251114T113000
DTSTAMP:20260421T082252
CREATED:20251016T190917Z
LAST-MODIFIED:20251016T190917Z
UID:379536-1763116200-1763119800@wrbiradio.com
SUMMARY:Adult Chair Yoga Class
DESCRIPTION:Adult program. Adults only.
URL:https://wrbiradio.com/event/adult-chair-yoga-class/
LOCATION:Greensburg-Decatur County Public Library
END:VEVENT
END:VCALENDAR