BEGIN:VCALENDAR
VERSION:2.0
PRODID:-//WRBI Radio - ECPv6.15.17//NONSGML v1.0//EN
CALSCALE:GREGORIAN
METHOD:PUBLISH
X-ORIGINAL-URL:https://wrbiradio.com
X-WR-CALDESC:Events for WRBI Radio
REFRESH-INTERVAL;VALUE=DURATION:PT1H
X-Robots-Tag:noindex
X-PUBLISHED-TTL:PT1H
BEGIN:VTIMEZONE
TZID:America/New_York
BEGIN:DAYLIGHT
TZOFFSETFROM:-0500
TZOFFSETTO:-0400
TZNAME:EDT
DTSTART:20240310T070000
END:DAYLIGHT
BEGIN:STANDARD
TZOFFSETFROM:-0400
TZOFFSETTO:-0500
TZNAME:EST
DTSTART:20241103T060000
END:STANDARD
BEGIN:DAYLIGHT
TZOFFSETFROM:-0500
TZOFFSETTO:-0400
TZNAME:EDT
DTSTART:20250309T070000
END:DAYLIGHT
BEGIN:STANDARD
TZOFFSETFROM:-0400
TZOFFSETTO:-0500
TZNAME:EST
DTSTART:20251102T060000
END:STANDARD
BEGIN:DAYLIGHT
TZOFFSETFROM:-0500
TZOFFSETTO:-0400
TZNAME:EDT
DTSTART:20260308T070000
END:DAYLIGHT
BEGIN:STANDARD
TZOFFSETFROM:-0400
TZOFFSETTO:-0500
TZNAME:EST
DTSTART:20261101T060000
END:STANDARD
END:VTIMEZONE
BEGIN:VEVENT
DTSTART;VALUE=DATE:20251113
DTEND;VALUE=DATE:20251114
DTSTAMP:20260421T082338
CREATED:20250924T195432Z
LAST-MODIFIED:20250924T195432Z
UID:378008-1762992000-1763078399@wrbiradio.com
SUMMARY:Veterans Quilt Exhibit
DESCRIPTION:Patriotic quilt display at the Batesville Public Library \nDesigned and crafted by Batesville Quiltmakers \nExhibit open to the public during library business hours through November 30th.  \n  \n 
URL:https://wrbiradio.com/event/veterans-quilt-exhibit-13/
LOCATION:Batesville Memorial Public Library\, 131 N. Walnut St.\, BATESVILLE\, IN\, 47006\, United States
END:VEVENT
BEGIN:VEVENT
DTSTART;TZID=America/New_York:20251113T093000
DTEND;TZID=America/New_York:20251113T103000
DTSTAMP:20260421T082338
CREATED:20251016T190803Z
LAST-MODIFIED:20251016T190803Z
UID:379504-1763026200-1763029800@wrbiradio.com
SUMMARY:Toddler Time
DESCRIPTION:Weekly storytime for toddlers and caregivers. Occurs every Wednesday and Thursday at 9:30 AM.
URL:https://wrbiradio.com/event/toddler-time-4/
LOCATION:Greensburg-Decatur County Public Library
END:VEVENT
BEGIN:VEVENT
DTSTART;TZID=America/New_York:20251113T130000
DTEND;TZID=America/New_York:20251113T140000
DTSTAMP:20260421T082338
CREATED:20251016T190900Z
LAST-MODIFIED:20251016T190902Z
UID:379527-1763038800-1763042400@wrbiradio.com
SUMMARY:Coffee\, Books\, and More!
DESCRIPTION:Adult program. Adults only.
URL:https://wrbiradio.com/event/coffee-books-and-more-2/
LOCATION:Greensburg-Decatur County Public Library
END:VEVENT
BEGIN:VEVENT
DTSTART;TZID=America/New_York:20251113T153000
DTEND;TZID=America/New_York:20251113T163000
DTSTAMP:20260421T082338
CREATED:20251016T190900Z
LAST-MODIFIED:20251016T190902Z
UID:379528-1763047800-1763051400@wrbiradio.com
SUMMARY:Build with Legos!
DESCRIPTION:All ages program.
URL:https://wrbiradio.com/event/build-with-legos/
LOCATION:Greensburg-Decatur County Public Library
END:VEVENT
BEGIN:VEVENT
DTSTART;TZID=America/New_York:20251113T173000
DTEND;TZID=America/New_York:20251113T183000
DTSTAMP:20260421T082338
CREATED:20251016T190901Z
LAST-MODIFIED:20251016T190902Z
UID:379529-1763055000-1763058600@wrbiradio.com
SUMMARY:Freezer Preservation with Purdue Extension
DESCRIPTION:Adult program. Adults only.
URL:https://wrbiradio.com/event/freezer-preservation-with-purdue-extension/
LOCATION:Greensburg-Decatur County Public Library
END:VEVENT
END:VCALENDAR