BEGIN:VCALENDAR
VERSION:2.0
PRODID:-//WRBI Radio - ECPv6.15.17//NONSGML v1.0//EN
CALSCALE:GREGORIAN
METHOD:PUBLISH
X-WR-CALNAME:WRBI Radio
X-ORIGINAL-URL:https://wrbiradio.com
X-WR-CALDESC:Events for WRBI Radio
REFRESH-INTERVAL;VALUE=DURATION:PT1H
X-Robots-Tag:noindex
X-PUBLISHED-TTL:PT1H
BEGIN:VTIMEZONE
TZID:America/New_York
BEGIN:DAYLIGHT
TZOFFSETFROM:-0500
TZOFFSETTO:-0400
TZNAME:EDT
DTSTART:20240310T070000
END:DAYLIGHT
BEGIN:STANDARD
TZOFFSETFROM:-0400
TZOFFSETTO:-0500
TZNAME:EST
DTSTART:20241103T060000
END:STANDARD
BEGIN:DAYLIGHT
TZOFFSETFROM:-0500
TZOFFSETTO:-0400
TZNAME:EDT
DTSTART:20250309T070000
END:DAYLIGHT
BEGIN:STANDARD
TZOFFSETFROM:-0400
TZOFFSETTO:-0500
TZNAME:EST
DTSTART:20251102T060000
END:STANDARD
BEGIN:DAYLIGHT
TZOFFSETFROM:-0500
TZOFFSETTO:-0400
TZNAME:EDT
DTSTART:20260308T070000
END:DAYLIGHT
BEGIN:STANDARD
TZOFFSETFROM:-0400
TZOFFSETTO:-0500
TZNAME:EST
DTSTART:20261101T060000
END:STANDARD
END:VTIMEZONE
BEGIN:VEVENT
DTSTART;VALUE=DATE:20251111
DTEND;VALUE=DATE:20251112
DTSTAMP:20260421T082240
CREATED:20250924T195010Z
LAST-MODIFIED:20250924T204333Z
UID:378004-1762819200-1762905599@wrbiradio.com
SUMMARY:Veterans Quilt Exhibit
DESCRIPTION:Patriotic quilt display at the Batesville Public Library \nDesigned and crafted by Batesville Quiltmakers \nExhibit open to the public during library business hours through November 30th.  \n  \n 
URL:https://wrbiradio.com/event/veterans-quilt-exhibit-11/
LOCATION:Batesville Memorial Public Library\, 131 N. Walnut St.\, BATESVILLE\, IN\, 47006\, United States
END:VEVENT
BEGIN:VEVENT
DTSTART;TZID=America/New_York:20251111T100000
DTEND;TZID=America/New_York:20251111T110000
DTSTAMP:20260421T082240
CREATED:20251016T190844Z
LAST-MODIFIED:20251016T190844Z
UID:379521-1762855200-1762858800@wrbiradio.com
SUMMARY:Preschool Play Day
DESCRIPTION:Childrens program.Ages 1-6.
URL:https://wrbiradio.com/event/preschool-play-day/
LOCATION:Greensburg-Decatur County Public Library
END:VEVENT
BEGIN:VEVENT
DTSTART;TZID=America/New_York:20251111T170000
DTEND;TZID=America/New_York:20251111T180000
DTSTAMP:20260421T082240
CREATED:20251016T190844Z
LAST-MODIFIED:20251016T190844Z
UID:379522-1762880400-1762884000@wrbiradio.com
SUMMARY:Tween Program: Turkey Wreath
DESCRIPTION:Tween program. Grades 3-6.
URL:https://wrbiradio.com/event/tween-program-turkey-wreath/
LOCATION:Greensburg-Decatur County Public Library
END:VEVENT
BEGIN:VEVENT
DTSTART;TZID=America/New_York:20251111T190000
DTEND;TZID=America/New_York:20251111T210000
DTSTAMP:20260421T082240
CREATED:20251010T172244Z
LAST-MODIFIED:20251010T172244Z
UID:379119-1762887600-1762894800@wrbiradio.com
SUMMARY:Solo Card Party
DESCRIPTION:Held monthly at the Batesville Knights of St. John Hall. 
URL:https://wrbiradio.com/event/solo-card-party-3/
LOCATION:Batesville Knights of St. John’s Hall\, 111 South Vine St.\, Batesville\, IN\, 47006\, United States
END:VEVENT
END:VCALENDAR