BEGIN:VCALENDAR
VERSION:2.0
PRODID:-//WRBI Radio - ECPv6.15.17//NONSGML v1.0//EN
CALSCALE:GREGORIAN
METHOD:PUBLISH
X-ORIGINAL-URL:https://wrbiradio.com
X-WR-CALDESC:Events for WRBI Radio
REFRESH-INTERVAL;VALUE=DURATION:PT1H
X-Robots-Tag:noindex
X-PUBLISHED-TTL:PT1H
BEGIN:VTIMEZONE
TZID:America/New_York
BEGIN:DAYLIGHT
TZOFFSETFROM:-0500
TZOFFSETTO:-0400
TZNAME:EDT
DTSTART:20240310T070000
END:DAYLIGHT
BEGIN:STANDARD
TZOFFSETFROM:-0400
TZOFFSETTO:-0500
TZNAME:EST
DTSTART:20241103T060000
END:STANDARD
BEGIN:DAYLIGHT
TZOFFSETFROM:-0500
TZOFFSETTO:-0400
TZNAME:EDT
DTSTART:20250309T070000
END:DAYLIGHT
BEGIN:STANDARD
TZOFFSETFROM:-0400
TZOFFSETTO:-0500
TZNAME:EST
DTSTART:20251102T060000
END:STANDARD
BEGIN:DAYLIGHT
TZOFFSETFROM:-0500
TZOFFSETTO:-0400
TZNAME:EDT
DTSTART:20260308T070000
END:DAYLIGHT
BEGIN:STANDARD
TZOFFSETFROM:-0400
TZOFFSETTO:-0500
TZNAME:EST
DTSTART:20261101T060000
END:STANDARD
END:VTIMEZONE
BEGIN:VEVENT
DTSTART;VALUE=DATE:20251110
DTEND;VALUE=DATE:20251111
DTSTAMP:20260421T082251
CREATED:20250924T194951Z
LAST-MODIFIED:20250924T204326Z
UID:378002-1762732800-1762819199@wrbiradio.com
SUMMARY:Veterans Quilt Exhibit
DESCRIPTION:Patriotic quilt display at the Batesville Public Library \nDesigned and crafted by Batesville Quiltmakers \nExhibit open to the public during library business hours through November 30th.  \nOpen House and Refreshments Nov 10 3-5pm \n 
URL:https://wrbiradio.com/event/veterans-quilt-exhibit-10/
LOCATION:Batesville Memorial Public Library\, 131 N. Walnut St.\, BATESVILLE\, IN\, 47006\, United States
END:VEVENT
BEGIN:VEVENT
DTSTART;TZID=America/New_York:20251110T160000
DTEND;TZID=America/New_York:20251110T170000
DTSTAMP:20260421T082251
CREATED:20251016T190828Z
LAST-MODIFIED:20251016T190828Z
UID:379519-1762790400-1762794000@wrbiradio.com
SUMMARY:Christmas Cards for Soldiers
DESCRIPTION:Teen program. Grades 6-12.
URL:https://wrbiradio.com/event/christmas-cards-for-soldiers/
LOCATION:Greensburg-Decatur County Public Library
END:VEVENT
BEGIN:VEVENT
DTSTART;TZID=America/New_York:20251110T190000
DTEND;TZID=America/New_York:20251110T200000
DTSTAMP:20260421T082251
CREATED:20251016T190828Z
LAST-MODIFIED:20251016T190828Z
UID:379520-1762801200-1762804800@wrbiradio.com
SUMMARY:John Pratt: Veteran’s Day Indiana Room Program
DESCRIPTION:Adult program. Ages 16+.
URL:https://wrbiradio.com/event/john-pratt-veterans-day-indiana-room-program/
LOCATION:Greensburg-Decatur County Public Library
END:VEVENT
END:VCALENDAR