BEGIN:VCALENDAR
VERSION:2.0
PRODID:-//WRBI Radio - ECPv6.15.17//NONSGML v1.0//EN
CALSCALE:GREGORIAN
METHOD:PUBLISH
X-ORIGINAL-URL:https://wrbiradio.com
X-WR-CALDESC:Events for WRBI Radio
REFRESH-INTERVAL;VALUE=DURATION:PT1H
X-Robots-Tag:noindex
X-PUBLISHED-TTL:PT1H
BEGIN:VTIMEZONE
TZID:America/New_York
BEGIN:DAYLIGHT
TZOFFSETFROM:-0500
TZOFFSETTO:-0400
TZNAME:EDT
DTSTART:20240310T070000
END:DAYLIGHT
BEGIN:STANDARD
TZOFFSETFROM:-0400
TZOFFSETTO:-0500
TZNAME:EST
DTSTART:20241103T060000
END:STANDARD
BEGIN:DAYLIGHT
TZOFFSETFROM:-0500
TZOFFSETTO:-0400
TZNAME:EDT
DTSTART:20250309T070000
END:DAYLIGHT
BEGIN:STANDARD
TZOFFSETFROM:-0400
TZOFFSETTO:-0500
TZNAME:EST
DTSTART:20251102T060000
END:STANDARD
BEGIN:DAYLIGHT
TZOFFSETFROM:-0500
TZOFFSETTO:-0400
TZNAME:EDT
DTSTART:20260308T070000
END:DAYLIGHT
BEGIN:STANDARD
TZOFFSETFROM:-0400
TZOFFSETTO:-0500
TZNAME:EST
DTSTART:20261101T060000
END:STANDARD
END:VTIMEZONE
BEGIN:VEVENT
DTSTART;VALUE=DATE:20251106
DTEND;VALUE=DATE:20251107
DTSTAMP:20260421T082253
CREATED:20250924T194840Z
LAST-MODIFIED:20250924T204308Z
UID:377994-1762387200-1762473599@wrbiradio.com
SUMMARY:Veterans Quilt Exhibit
DESCRIPTION:Patriotic quilt display at the Batesville Public Library \nDesigned and crafted by Batesville Quiltmakers \nExhibit open to the public during library business hours through November 30th.  \nOpen House and Refreshments Nov 10 3-5pm \n 
URL:https://wrbiradio.com/event/veterans-quilt-exhibit-6/
LOCATION:Batesville Memorial Public Library\, 131 N. Walnut St.\, BATESVILLE\, IN\, 47006\, United States
END:VEVENT
BEGIN:VEVENT
DTSTART;TZID=America/New_York:20251106T093000
DTEND;TZID=America/New_York:20251106T103000
DTSTAMP:20260421T082253
CREATED:20251016T190802Z
LAST-MODIFIED:20251016T190802Z
UID:379502-1762421400-1762425000@wrbiradio.com
SUMMARY:Toddler Time
DESCRIPTION:Weekly storytime for toddlers and caregivers. Occurs every Wednesday and Thursday at 9:30 AM.
URL:https://wrbiradio.com/event/toddler-time-2/
LOCATION:Greensburg-Decatur County Public Library
END:VEVENT
BEGIN:VEVENT
DTSTART;TZID=America/New_York:20251106T120000
DTEND;TZID=America/New_York:20251106T174500
DTSTAMP:20260421T082253
CREATED:20250924T174504Z
LAST-MODIFIED:20250924T174504Z
UID:377980-1762430400-1762451100@wrbiradio.com
SUMMARY:Blood Drive - St. Anthony of Padua
DESCRIPTION:Blood Drive will be held in Schad Hall \n4773 Church Rd\, Morris\, IN 47033 \nRegistration times from 12pm-2:15pm and 3:30pm-5:45pm.  \nSchedule online: hoxworth.org/groups/stanthony\nor\nCall Hoxworth at 800-830-1091 \nAll donors receive a Cincinnati Cyclones performance hoodie!
URL:https://wrbiradio.com/event/blood-drive-st-anthony-of-padua/
LOCATION:Schad Hall\, 4773 Church Rd\, Morris\, Indiana\, 47033\, United States
END:VEVENT
BEGIN:VEVENT
DTSTART;TZID=America/New_York:20251106T170000
DTEND;TZID=America/New_York:20251106T180000
DTSTAMP:20260421T082253
CREATED:20251016T190813Z
LAST-MODIFIED:20251016T190813Z
UID:379515-1762448400-1762452000@wrbiradio.com
SUMMARY:Student Book Club: I Survived the Galveston Hurricane of 1900
DESCRIPTION:Childrens program.Grades 1-5.
URL:https://wrbiradio.com/event/student-book-club-i-survived-the-galveston-hurricane-of-1900/
LOCATION:Greensburg-Decatur County Public Library
END:VEVENT
BEGIN:VEVENT
DTSTART;TZID=America/New_York:20251106T173000
DTEND;TZID=America/New_York:20251106T183000
DTSTAMP:20260421T082253
CREATED:20251016T190826Z
LAST-MODIFIED:20251016T190826Z
UID:379516-1762450200-1762453800@wrbiradio.com
SUMMARY:Drop-In Stitching Away Stigma Program
DESCRIPTION:Adult program. Open to the public.
URL:https://wrbiradio.com/event/drop-in-stitching-away-stigma-program/
LOCATION:Greensburg-Decatur County Public Library
END:VEVENT
BEGIN:VEVENT
DTSTART;TZID=America/New_York:20251106T180000
DTEND;TZID=America/New_York:20251106T193000
DTSTAMP:20260421T082253
CREATED:20250113T190213Z
LAST-MODIFIED:20250113T190213Z
UID:358572-1762452000-1762457400@wrbiradio.com
SUMMARY:Caregiver Support Group
DESCRIPTION:Located at Margaret Mary Hospital (Main Campus) in Batesville\, this is the Batesville Dementia Caregivers Support Group\, sponsored by the Greater Cincinnati Alzheimer’s Association. This group will meet on the first Thursday of every month\, at 6:00 PM to 7:30 PM. Meetings are open to new attendees at any time\, no ongoing commitment is expected. For more information\, contact Ann Edwards at 812-213-0722 or email at ann@agingcare-solutions.com. 
URL:https://wrbiradio.com/event/caregiver-support-group-11/
LOCATION:Margaret Mary Health\, 321 Mitchell Ave\, Batesville\, IN\, 47006\, United States
END:VEVENT
END:VCALENDAR