BEGIN:VCALENDAR
VERSION:2.0
PRODID:-//WRBI Radio - ECPv6.15.17//NONSGML v1.0//EN
CALSCALE:GREGORIAN
METHOD:PUBLISH
X-ORIGINAL-URL:https://wrbiradio.com
X-WR-CALDESC:Events for WRBI Radio
REFRESH-INTERVAL;VALUE=DURATION:PT1H
X-Robots-Tag:noindex
X-PUBLISHED-TTL:PT1H
BEGIN:VTIMEZONE
TZID:America/New_York
BEGIN:DAYLIGHT
TZOFFSETFROM:-0500
TZOFFSETTO:-0400
TZNAME:EDT
DTSTART:20240310T070000
END:DAYLIGHT
BEGIN:STANDARD
TZOFFSETFROM:-0400
TZOFFSETTO:-0500
TZNAME:EST
DTSTART:20241103T060000
END:STANDARD
BEGIN:DAYLIGHT
TZOFFSETFROM:-0500
TZOFFSETTO:-0400
TZNAME:EDT
DTSTART:20250309T070000
END:DAYLIGHT
BEGIN:STANDARD
TZOFFSETFROM:-0400
TZOFFSETTO:-0500
TZNAME:EST
DTSTART:20251102T060000
END:STANDARD
BEGIN:DAYLIGHT
TZOFFSETFROM:-0500
TZOFFSETTO:-0400
TZNAME:EDT
DTSTART:20260308T070000
END:DAYLIGHT
BEGIN:STANDARD
TZOFFSETFROM:-0400
TZOFFSETTO:-0500
TZNAME:EST
DTSTART:20261101T060000
END:STANDARD
END:VTIMEZONE
BEGIN:VEVENT
DTSTART;VALUE=DATE:20251105
DTEND;VALUE=DATE:20251106
DTSTAMP:20260421T082251
CREATED:20250924T194818Z
LAST-MODIFIED:20250924T204304Z
UID:377992-1762300800-1762387199@wrbiradio.com
SUMMARY:Veterans Quilt Exhibit
DESCRIPTION:Patriotic quilt display at the Batesville Public Library \nDesigned and crafted by Batesville Quiltmakers \nExhibit open to the public during library business hours through November 30th.  \nOpen House and Refreshments Nov 10 3-5pm \n 
URL:https://wrbiradio.com/event/veterans-quilt-exhibit-5/
LOCATION:Batesville Memorial Public Library\, 131 N. Walnut St.\, BATESVILLE\, IN\, 47006\, United States
END:VEVENT
BEGIN:VEVENT
DTSTART;TZID=America/New_York:20251105T093000
DTEND;TZID=America/New_York:20251105T103000
DTSTAMP:20260421T082251
CREATED:20251016T190801Z
LAST-MODIFIED:20251016T190801Z
UID:379501-1762335000-1762338600@wrbiradio.com
SUMMARY:Toddler Time
DESCRIPTION:Weekly storytime for toddlers and caregivers. Occurs every Wednesday and Thursday at 9:30 AM.
URL:https://wrbiradio.com/event/toddler-time/
LOCATION:Greensburg-Decatur County Public Library
END:VEVENT
BEGIN:VEVENT
DTSTART;TZID=America/New_York:20251105T103000
DTEND;TZID=America/New_York:20251105T113000
DTSTAMP:20260421T082251
CREATED:20251016T190807Z
LAST-MODIFIED:20251016T190807Z
UID:379508-1762338600-1762342200@wrbiradio.com
SUMMARY:Family Story Time
DESCRIPTION:Family storytime with stories\, songs\, and fun. Occurs every Wednesday at 10:30 AM.
URL:https://wrbiradio.com/event/family-story-time/
LOCATION:Greensburg-Decatur County Public Library
END:VEVENT
END:VCALENDAR