BEGIN:VCALENDAR
VERSION:2.0
PRODID:-//WRBI Radio - ECPv6.15.17//NONSGML v1.0//EN
CALSCALE:GREGORIAN
METHOD:PUBLISH
X-ORIGINAL-URL:https://wrbiradio.com
X-WR-CALDESC:Events for WRBI Radio
REFRESH-INTERVAL;VALUE=DURATION:PT1H
X-Robots-Tag:noindex
X-PUBLISHED-TTL:PT1H
BEGIN:VTIMEZONE
TZID:America/New_York
BEGIN:DAYLIGHT
TZOFFSETFROM:-0500
TZOFFSETTO:-0400
TZNAME:EDT
DTSTART:20240310T070000
END:DAYLIGHT
BEGIN:STANDARD
TZOFFSETFROM:-0400
TZOFFSETTO:-0500
TZNAME:EST
DTSTART:20241103T060000
END:STANDARD
BEGIN:DAYLIGHT
TZOFFSETFROM:-0500
TZOFFSETTO:-0400
TZNAME:EDT
DTSTART:20250309T070000
END:DAYLIGHT
BEGIN:STANDARD
TZOFFSETFROM:-0400
TZOFFSETTO:-0500
TZNAME:EST
DTSTART:20251102T060000
END:STANDARD
BEGIN:DAYLIGHT
TZOFFSETFROM:-0500
TZOFFSETTO:-0400
TZNAME:EDT
DTSTART:20260308T070000
END:DAYLIGHT
BEGIN:STANDARD
TZOFFSETFROM:-0400
TZOFFSETTO:-0500
TZNAME:EST
DTSTART:20261101T060000
END:STANDARD
END:VTIMEZONE
BEGIN:VEVENT
DTSTART;VALUE=DATE:20251104
DTEND;VALUE=DATE:20251105
DTSTAMP:20260421T082253
CREATED:20250924T194758Z
LAST-MODIFIED:20250924T204259Z
UID:377990-1762214400-1762300799@wrbiradio.com
SUMMARY:Veterans Quilt Exhibit
DESCRIPTION:Patriotic quilt display at the Batesville Public Library \nDesigned and crafted by Batesville Quiltmakers \nExhibit open to the public during library business hours through November 30th.  \nOpen House and Refreshments Nov 10 3-5pm \n 
URL:https://wrbiradio.com/event/veterans-quilt-exhibit-4/
LOCATION:Batesville Memorial Public Library\, 131 N. Walnut St.\, BATESVILLE\, IN\, 47006\, United States
END:VEVENT
BEGIN:VEVENT
DTSTART;TZID=America/New_York:20251104T140000
DTEND;TZID=America/New_York:20251104T150000
DTSTAMP:20260421T082253
CREATED:20251016T190812Z
LAST-MODIFIED:20251016T190812Z
UID:379513-1762264800-1762268400@wrbiradio.com
SUMMARY:Virtual: Community\, Power\, and the Search for Indigenous Identity with Award-Winning Journalist Joseph Lee
DESCRIPTION:This is a virtual program. Sign up using the link on the library’s website.
URL:https://wrbiradio.com/event/virtual-community-power-and-the-search-for-indigenous-identity-with-award-winning-journalist-joseph-lee/
LOCATION:Greensburg-Decatur County Public Library
END:VEVENT
BEGIN:VEVENT
DTSTART;TZID=America/New_York:20251104T171500
DTEND;TZID=America/New_York:20251104T181500
DTSTAMP:20260421T082253
CREATED:20251016T190812Z
LAST-MODIFIED:20251016T190812Z
UID:379514-1762276500-1762280100@wrbiradio.com
SUMMARY:Walk with a Doc!
DESCRIPTION:Adult program. Adults only.
URL:https://wrbiradio.com/event/walk-with-a-doc/
LOCATION:Greensburg-Decatur County Public Library
END:VEVENT
BEGIN:VEVENT
DTSTART;TZID=America/New_York:20251104T173000
DTEND;TZID=America/New_York:20251104T183000
DTSTAMP:20260421T082253
CREATED:20251016T190812Z
LAST-MODIFIED:20251016T190812Z
UID:379512-1762277400-1762281000@wrbiradio.com
SUMMARY:Music Bingo!
DESCRIPTION:Adult program. Adults only.
URL:https://wrbiradio.com/event/music-bingo/
LOCATION:Greensburg-Decatur County Public Library
END:VEVENT
END:VCALENDAR