BEGIN:VCALENDAR
VERSION:2.0
PRODID:-//WRBI Radio - ECPv6.15.17//NONSGML v1.0//EN
CALSCALE:GREGORIAN
METHOD:PUBLISH
X-WR-CALNAME:WRBI Radio
X-ORIGINAL-URL:https://wrbiradio.com
X-WR-CALDESC:Events for WRBI Radio
REFRESH-INTERVAL;VALUE=DURATION:PT1H
X-Robots-Tag:noindex
X-PUBLISHED-TTL:PT1H
BEGIN:VTIMEZONE
TZID:America/New_York
BEGIN:DAYLIGHT
TZOFFSETFROM:-0500
TZOFFSETTO:-0400
TZNAME:EDT
DTSTART:20240310T070000
END:DAYLIGHT
BEGIN:STANDARD
TZOFFSETFROM:-0400
TZOFFSETTO:-0500
TZNAME:EST
DTSTART:20241103T060000
END:STANDARD
BEGIN:DAYLIGHT
TZOFFSETFROM:-0500
TZOFFSETTO:-0400
TZNAME:EDT
DTSTART:20250309T070000
END:DAYLIGHT
BEGIN:STANDARD
TZOFFSETFROM:-0400
TZOFFSETTO:-0500
TZNAME:EST
DTSTART:20251102T060000
END:STANDARD
BEGIN:DAYLIGHT
TZOFFSETFROM:-0500
TZOFFSETTO:-0400
TZNAME:EDT
DTSTART:20260308T070000
END:DAYLIGHT
BEGIN:STANDARD
TZOFFSETFROM:-0400
TZOFFSETTO:-0500
TZNAME:EST
DTSTART:20261101T060000
END:STANDARD
END:VTIMEZONE
BEGIN:VEVENT
DTSTART;VALUE=DATE:20251103
DTEND;VALUE=DATE:20251104
DTSTAMP:20260421T082259
CREATED:20250924T194740Z
LAST-MODIFIED:20250924T204255Z
UID:377988-1762128000-1762214399@wrbiradio.com
SUMMARY:Veterans Quilt Exhibit
DESCRIPTION:Patriotic quilt display at the Batesville Public Library \nDesigned and crafted by Batesville Quiltmakers \nExhibit open to the public during library business hours through November 30th.  \nOpen House and Refreshments Nov 10 3-5pm \n 
URL:https://wrbiradio.com/event/veterans-quilt-exhibit-3/
LOCATION:Batesville Memorial Public Library\, 131 N. Walnut St.\, BATESVILLE\, IN\, 47006\, United States
END:VEVENT
BEGIN:VEVENT
DTSTART;VALUE=DATE:20251103
DTEND;VALUE=DATE:20251104
DTSTAMP:20260421T082259
CREATED:20251016T185241Z
LAST-MODIFIED:20251016T185241Z
UID:379493-1762128000-1762214399@wrbiradio.com
SUMMARY:Take-N-Make: Turkey Magnet
DESCRIPTION:Teen program. Grades 6-12.
URL:https://wrbiradio.com/event/take-n-make-turkey-magnet/
LOCATION:Greensburg Decatur County Public Library\, 1110 E. Main St.\, Greensburg\, IN\, 47240\, United States
END:VEVENT
BEGIN:VEVENT
DTSTART;TZID=America/New_York:20251103T173000
DTEND;TZID=America/New_York:20251103T183000
DTSTAMP:20260421T082259
CREATED:20251016T185326Z
LAST-MODIFIED:20251016T185326Z
UID:379495-1762191000-1762194600@wrbiradio.com
SUMMARY:Rest\, Relax\, and Rejuvenate Before the Holidays Begin!
DESCRIPTION:Adult program. Adults only.
URL:https://wrbiradio.com/event/rest-relax-and-rejuvenate-before-the-holidays-begin/
LOCATION:Greensburg Decatur County Public Library\, 1110 E. Main St.\, Greensburg\, IN\, 47240\, United States
END:VEVENT
BEGIN:VEVENT
DTSTART;TZID=America/New_York:20251103T180000
DTEND;TZID=America/New_York:20251103T190000
DTSTAMP:20260421T082259
CREATED:20251016T185416Z
LAST-MODIFIED:20251016T185416Z
UID:379497-1762192800-1762196400@wrbiradio.com
SUMMARY:In Stitches: Drop in Group
DESCRIPTION: Adult program. Ages 16+.
URL:https://wrbiradio.com/event/in-stitches-drop-in-group/
LOCATION:Greensburg Decatur County Public Library\, 1110 E. Main St.\, Greensburg\, IN\, 47240\, United States
END:VEVENT
END:VCALENDAR