BEGIN:VCALENDAR
VERSION:2.0
PRODID:-//WRBI Radio - ECPv6.15.17//NONSGML v1.0//EN
CALSCALE:GREGORIAN
METHOD:PUBLISH
X-ORIGINAL-URL:https://wrbiradio.com
X-WR-CALDESC:Events for WRBI Radio
REFRESH-INTERVAL;VALUE=DURATION:PT1H
X-Robots-Tag:noindex
X-PUBLISHED-TTL:PT1H
BEGIN:VTIMEZONE
TZID:America/New_York
BEGIN:DAYLIGHT
TZOFFSETFROM:-0500
TZOFFSETTO:-0400
TZNAME:EDT
DTSTART:20240310T070000
END:DAYLIGHT
BEGIN:STANDARD
TZOFFSETFROM:-0400
TZOFFSETTO:-0500
TZNAME:EST
DTSTART:20241103T060000
END:STANDARD
BEGIN:DAYLIGHT
TZOFFSETFROM:-0500
TZOFFSETTO:-0400
TZNAME:EDT
DTSTART:20250309T070000
END:DAYLIGHT
BEGIN:STANDARD
TZOFFSETFROM:-0400
TZOFFSETTO:-0500
TZNAME:EST
DTSTART:20251102T060000
END:STANDARD
BEGIN:DAYLIGHT
TZOFFSETFROM:-0500
TZOFFSETTO:-0400
TZNAME:EDT
DTSTART:20260308T070000
END:DAYLIGHT
BEGIN:STANDARD
TZOFFSETFROM:-0400
TZOFFSETTO:-0500
TZNAME:EST
DTSTART:20261101T060000
END:STANDARD
END:VTIMEZONE
BEGIN:VEVENT
DTSTART;VALUE=DATE:20251102
DTEND;VALUE=DATE:20251103
DTSTAMP:20260421T082253
CREATED:20250924T194715Z
LAST-MODIFIED:20250924T204251Z
UID:377986-1762041600-1762127999@wrbiradio.com
SUMMARY:Veterans Quilt Exhibit
DESCRIPTION:Patriotic quilt display at the Batesville Public Library \nDesigned and crafted by Batesville Quiltmakers \nExhibit open to the public during library business hours through November 30th.  \nOpen House and Refreshments Nov 10 3-5pm \n 
URL:https://wrbiradio.com/event/veterans-quilt-exhibit-2/
LOCATION:Batesville Memorial Public Library\, 131 N. Walnut St.\, BATESVILLE\, IN\, 47006\, United States
END:VEVENT
BEGIN:VEVENT
DTSTART;TZID=America/New_York:20251102T100000
DTEND;TZID=America/New_York:20251102T150000
DTSTAMP:20260421T082253
CREATED:20250923T142800Z
LAST-MODIFIED:20250923T142800Z
UID:377877-1762077600-1762095600@wrbiradio.com
SUMMARY:Holiday Bazaar
DESCRIPTION:Beta Sigma Phi sorority will host their annual Holiday Bazaar on Sunday\, Nov. 2 from 10am to 3pm at Batesville Primary School\, Batesville. Admission is free for this holiday event. Those in attendance can browse and shop the dozens of crafters’ and consultants’ booths and get into the holiday spirit. Raffle tickets will be available for purchase at the door for chances to win $500 cash\, as well as many other big prizes. Stop by the popular Cookie Walk tables for homemade goodies\, baked by the sorority members. Lunch will be served by the sorority while the food lasts. Proceeds from this fundraiser go to charities and scholarships.
URL:https://wrbiradio.com/event/holiday-bazaar-2/
LOCATION:Batesville Primary School\, 760 State Road 46 West\, Batesville\, IN\, 47006\, United States
END:VEVENT
BEGIN:VEVENT
DTSTART;TZID=America/New_York:20251102T110000
DTEND;TZID=America/New_York:20251102T160000
DTSTAMP:20260421T082253
CREATED:20251010T181540Z
LAST-MODIFIED:20251010T181553Z
UID:379125-1762081200-1762099200@wrbiradio.com
SUMMARY:Holiday Bazaar and Turkey Dinner
DESCRIPTION:Dine in or Carry Out \n$15.00 Adults $7.00 Children ages 3-12. \nSponsored by the North Dearborn American Legion Auxiliary Post 452 (New Alsace) \nFor more Information visit northdearbornlegionpost452.org \, or their Facebook page at North Dearborn American Legion Post 452.
URL:https://wrbiradio.com/event/holiday-bazaar-and-turkey-dinner/
LOCATION:North Dearborn American Legion Post 452\, 25329 Legion Road\, New Alsace\, IN\, 47022\, United States
END:VEVENT
BEGIN:VEVENT
DTSTART;TZID=America/New_York:20251102T170000
DTEND;TZID=America/New_York:20251102T200000
DTSTAMP:20260421T082253
CREATED:20250924T161857Z
LAST-MODIFIED:20250924T161857Z
UID:377978-1762102800-1762113600@wrbiradio.com
SUMMARY:Bingo - St. Anthony's
DESCRIPTION:Bingo every Sunday night.  \nDoors open at 5pm. \nEarly Birds at 6:30pm. \nRegular Games at 7pm.  \nPull Tabs also for sale.  \nSnack bar with food and drinks.  \nCome out and enjoy a night of fun with your friends!
URL:https://wrbiradio.com/event/bingo-st-anthonys-6/
LOCATION:St. Anthony Catholic Church\, 4773 Church Rd\, Morris\, IN\, 47006\, United States
END:VEVENT
BEGIN:VEVENT
DTSTART;TZID=America/New_York:20251102T170000
DTEND;TZID=America/New_York:20251102T200000
DTSTAMP:20260421T082253
CREATED:20251010T160935Z
LAST-MODIFIED:20251010T161015Z
UID:379100-1762102800-1762113600@wrbiradio.com
SUMMARY:St. Peter's Turkey Bingo and Raffle
DESCRIPTION:St. Peter’s Turkey Bingo and Raffle\n6:00 P.M.-Doors open at 5:00 P.M.\nRefreshments available to purchase including sandwiches\, snacks\, and pie.\n20 Turkeys to be won with a Raffle also being held.\nAll Proceeds given to charity.
URL:https://wrbiradio.com/event/st-peters-turkey-bingo-and-raffle/
LOCATION:St. Peter’s Catholic Church\, 1207 East Rd.\, Brookville\, 47012\, United States
END:VEVENT
END:VCALENDAR