BEGIN:VCALENDAR
VERSION:2.0
PRODID:-//WRBI Radio - ECPv6.15.17//NONSGML v1.0//EN
CALSCALE:GREGORIAN
METHOD:PUBLISH
X-WR-CALNAME:WRBI Radio
X-ORIGINAL-URL:https://wrbiradio.com
X-WR-CALDESC:Events for WRBI Radio
REFRESH-INTERVAL;VALUE=DURATION:PT1H
X-Robots-Tag:noindex
X-PUBLISHED-TTL:PT1H
BEGIN:VTIMEZONE
TZID:America/New_York
BEGIN:DAYLIGHT
TZOFFSETFROM:-0500
TZOFFSETTO:-0400
TZNAME:EDT
DTSTART:20240310T070000
END:DAYLIGHT
BEGIN:STANDARD
TZOFFSETFROM:-0400
TZOFFSETTO:-0500
TZNAME:EST
DTSTART:20241103T060000
END:STANDARD
BEGIN:DAYLIGHT
TZOFFSETFROM:-0500
TZOFFSETTO:-0400
TZNAME:EDT
DTSTART:20250309T070000
END:DAYLIGHT
BEGIN:STANDARD
TZOFFSETFROM:-0400
TZOFFSETTO:-0500
TZNAME:EST
DTSTART:20251102T060000
END:STANDARD
BEGIN:DAYLIGHT
TZOFFSETFROM:-0500
TZOFFSETTO:-0400
TZNAME:EDT
DTSTART:20260308T070000
END:DAYLIGHT
BEGIN:STANDARD
TZOFFSETFROM:-0400
TZOFFSETTO:-0500
TZNAME:EST
DTSTART:20261101T060000
END:STANDARD
END:VTIMEZONE
BEGIN:VEVENT
DTSTART;VALUE=DATE:20251101
DTEND;VALUE=DATE:20251102
DTSTAMP:20260421T082242
CREATED:20250924T194607Z
LAST-MODIFIED:20250924T204247Z
UID:377982-1761955200-1762041599@wrbiradio.com
SUMMARY:Veterans Quilt Exhibit
DESCRIPTION:Patriotic quilt display at the Batesville Public Library \nDesigned and crafted by Batesville Quiltmakers \nExhibit open to the public during library business hours through November 30th.  \nOpen House and Refreshments Nov 10 3-5pm \n 
URL:https://wrbiradio.com/event/veterans-quilt-exhibit/
LOCATION:Batesville Memorial Public Library\, 131 N. Walnut St.\, BATESVILLE\, IN\, 47006\, United States
END:VEVENT
BEGIN:VEVENT
DTSTART;TZID=America/New_York:20251101T090000
DTEND;TZID=America/New_York:20251101T140000
DTSTAMP:20260421T082242
CREATED:20251010T161613Z
LAST-MODIFIED:20251010T161613Z
UID:379110-1761987600-1762005600@wrbiradio.com
SUMMARY:Pack the Patrol Car
DESCRIPTION:Join a special community partnership between the Decatur Co. Sheriff’s Department and Greensburg Community Bread of Life. Together\, they’re working to provide meals and hope for those in need. \nStop by Walmart Nov 1 from 9-2\, receive a grocery list of the most-needed items for Bread of Life\, purchase items and help pack the patrol car with resources to support our community!
URL:https://wrbiradio.com/event/pack-the-patrol-car/
LOCATION:Greensburg Walmart
END:VEVENT
BEGIN:VEVENT
DTSTART;TZID=America/New_York:20251101T103000
DTEND;TZID=America/New_York:20251101T153000
DTSTAMP:20260421T082242
CREATED:20251015T141748Z
LAST-MODIFIED:20251015T141802Z
UID:379367-1761993000-1762011000@wrbiradio.com
SUMMARY:Rabies & Vaccine Clinic
DESCRIPTION:Low cost pet vaccine clinic sponsored by Ripley County Health Department and Ripley County Humane Society. All proceeds go to Ripley County Humane Society.  \nAppointment only from 10:30 AM – 2:30 PM\nTo schedule an appointment\, call 812-689-5751. \nWalk-ins from 2:30 – 3:30 PM \n(Walk-ins are first come\, first served and based upon vaccine availability.)  \nCash Only  \nRabies $20\nCanine Distemper/Parvo (DAPP) $10\nBordetella $10\nFeline Distemper (FVRCP) $10 \nImportant Information:  \n\nAnimals should arrive on a leash or in a pet carrier. \nAggressive pets will be turned away; if in doubt\, please arrive with a fitted muzzle on your pet. \nThis is a pet vaccine clinic only. Please schedule an appointment with your primary veterinarian for your pet’s routine wellness visit. 
URL:https://wrbiradio.com/event/rabies-clinic/
LOCATION:Ripley County Humane Society\, 1202 W County Road 150 N\, Osgood\, IN\, 47034\, United States
END:VEVENT
BEGIN:VEVENT
DTSTART;TZID=America/New_York:20251101T150000
DTEND;TZID=America/New_York:20251101T190000
DTSTAMP:20260421T082242
CREATED:20250923T142926Z
LAST-MODIFIED:20250923T142926Z
UID:377879-1762009200-1762023600@wrbiradio.com
SUMMARY:St. Charles 20th Annual Harvest Dinner
DESCRIPTION:Delicious pulled pork dinner with sides and desserts in air-conditioned hall. Carryout available. Great prize raffle – win cash prizes\, quilts\, half hogs processed. Basket raffle. Country store. Kids games. $15 per dinner\, kids 4 and under are free. Mass celebrated in church at 5pm. Dinners served from 3 – 7pm!
URL:https://wrbiradio.com/event/st-charles-20th-annual-harvest-dinner/
LOCATION:St Charles – Milan\, 213 W Ripley St\, Milan\, IN\, 47031\, United States
END:VEVENT
BEGIN:VEVENT
DTSTART;TZID=America/New_York:20251101T160000
DTEND;TZID=America/New_York:20251101T190000
DTSTAMP:20260421T082242
CREATED:20251010T200125Z
LAST-MODIFIED:20251010T200125Z
UID:379128-1762012800-1762023600@wrbiradio.com
SUMMARY:Turkey Dinner (Drive Thru)
DESCRIPTION:Everyone is welcome! \nAdults $13\nChildren (10 and under) $7
URL:https://wrbiradio.com/event/turkey-dinner-drive-thru/
LOCATION:Batesville Knights of St. John’s Hall\, 111 South Vine St.\, Batesville\, IN\, 47006\, United States
END:VEVENT
BEGIN:VEVENT
DTSTART;TZID=America/New_York:20251101T160000
DTEND;TZID=America/New_York:20251101T190000
DTSTAMP:20260421T082242
CREATED:20251016T000017Z
LAST-MODIFIED:20251016T000017Z
UID:379414-1762012800-1762023600@wrbiradio.com
SUMMARY:Drive Thru Turkey Dinner (Knights of St. John)
DESCRIPTION:Everyone Welcome \nAdults $13\nChildren (10 and under) $7 \nPumpkin pie included!
URL:https://wrbiradio.com/event/drive-thru-turkey-dinner-knights-of-st-john/
LOCATION:Batesville Knights of St. John’s Hall\, 111 South Vine St.\, Batesville\, IN\, 47006\, United States
END:VEVENT
BEGIN:VEVENT
DTSTART;TZID=America/New_York:20251101T180000
DTEND;TZID=America/New_York:20251101T200000
DTSTAMP:20260421T082242
CREATED:20251023T141856Z
LAST-MODIFIED:20251023T141856Z
UID:379963-1762020000-1762027200@wrbiradio.com
SUMMARY:2025 OASIS Hog Roast & Drawdown
DESCRIPTION:For just $100\, you could possibly walk out with $5\,000 at the OASIS Hog Roast & Drawdown. \nCome out and enjoy delicious food\, a lot of laughs and create memories while raising money for Oldenburg Academy Students in Sports! \nTickets are $100 and that includes 2 people in for dinner and 1 entry into the raffle. \nHave a bigger group? Ask about being a table sponsor!
URL:https://wrbiradio.com/event/2025-oasis-hog-roast-drawdown/
LOCATION:Oldenburg Academy Hillenbrand Family Feldhaus\, 1 Twister Circle\, Oldenburg\, IN\, 47036\, United States
END:VEVENT
END:VCALENDAR