BEGIN:VCALENDAR
VERSION:2.0
PRODID:-//WRBI Radio - ECPv6.15.17//NONSGML v1.0//EN
CALSCALE:GREGORIAN
METHOD:PUBLISH
X-WR-CALNAME:WRBI Radio
X-ORIGINAL-URL:https://wrbiradio.com
X-WR-CALDESC:Events for WRBI Radio
REFRESH-INTERVAL;VALUE=DURATION:PT1H
X-Robots-Tag:noindex
X-PUBLISHED-TTL:PT1H
BEGIN:VTIMEZONE
TZID:America/New_York
BEGIN:DAYLIGHT
TZOFFSETFROM:-0500
TZOFFSETTO:-0400
TZNAME:EDT
DTSTART:20240310T070000
END:DAYLIGHT
BEGIN:STANDARD
TZOFFSETFROM:-0400
TZOFFSETTO:-0500
TZNAME:EST
DTSTART:20241103T060000
END:STANDARD
BEGIN:DAYLIGHT
TZOFFSETFROM:-0500
TZOFFSETTO:-0400
TZNAME:EDT
DTSTART:20250309T070000
END:DAYLIGHT
BEGIN:STANDARD
TZOFFSETFROM:-0400
TZOFFSETTO:-0500
TZNAME:EST
DTSTART:20251102T060000
END:STANDARD
BEGIN:DAYLIGHT
TZOFFSETFROM:-0500
TZOFFSETTO:-0400
TZNAME:EDT
DTSTART:20260308T070000
END:DAYLIGHT
BEGIN:STANDARD
TZOFFSETFROM:-0400
TZOFFSETTO:-0500
TZNAME:EST
DTSTART:20261101T060000
END:STANDARD
END:VTIMEZONE
BEGIN:VEVENT
DTSTART;TZID=America/New_York:20251019T103000
DTEND;TZID=America/New_York:20251019T133000
DTSTAMP:20260421T082242
CREATED:20251009T224216Z
LAST-MODIFIED:20251009T224216Z
UID:379025-1760869800-1760880600@wrbiradio.com
SUMMARY:Annual Turkey Dinner - St. Jacob's Church (Blue Creek)
DESCRIPTION:Carry-Outs Only \nAdults $15\nChildren $7 \nState Road 46 to Lawrenceville – Follow Signs
URL:https://wrbiradio.com/event/annual-turkey-dinner-st-jacobs-church-blue-creek/
LOCATION:St. Jacob’s Church – Blue Creek\, 29959 Blue Creek Road\, Sunman\, IN\, 47041\, United States
END:VEVENT
BEGIN:VEVENT
DTSTART;TZID=America/New_York:20251019T170000
DTEND;TZID=America/New_York:20251019T200000
DTSTAMP:20260421T082242
CREATED:20250924T161739Z
LAST-MODIFIED:20250924T161739Z
UID:377974-1760893200-1760904000@wrbiradio.com
SUMMARY:Bingo - St. Anthony's
DESCRIPTION:Bingo every Sunday night.  \nDoors open at 5pm. \nEarly Birds at 6:30pm. \nRegular Games at 7pm.  \nPull Tabs also for sale.  \nSnack bar with food and drinks.  \nCome out and enjoy a night of fun with your friends!
URL:https://wrbiradio.com/event/bingo-st-anthonys-4/
LOCATION:St. Anthony Catholic Church\, 4773 Church Rd\, Morris\, IN\, 47006\, United States
END:VEVENT
END:VCALENDAR