BEGIN:VCALENDAR
VERSION:2.0
PRODID:-//WRBI Radio - ECPv6.15.17//NONSGML v1.0//EN
CALSCALE:GREGORIAN
METHOD:PUBLISH
X-ORIGINAL-URL:https://wrbiradio.com
X-WR-CALDESC:Events for WRBI Radio
REFRESH-INTERVAL;VALUE=DURATION:PT1H
X-Robots-Tag:noindex
X-PUBLISHED-TTL:PT1H
BEGIN:VTIMEZONE
TZID:America/New_York
BEGIN:DAYLIGHT
TZOFFSETFROM:-0500
TZOFFSETTO:-0400
TZNAME:EDT
DTSTART:20240310T070000
END:DAYLIGHT
BEGIN:STANDARD
TZOFFSETFROM:-0400
TZOFFSETTO:-0500
TZNAME:EST
DTSTART:20241103T060000
END:STANDARD
BEGIN:DAYLIGHT
TZOFFSETFROM:-0500
TZOFFSETTO:-0400
TZNAME:EDT
DTSTART:20250309T070000
END:DAYLIGHT
BEGIN:STANDARD
TZOFFSETFROM:-0400
TZOFFSETTO:-0500
TZNAME:EST
DTSTART:20251102T060000
END:STANDARD
BEGIN:DAYLIGHT
TZOFFSETFROM:-0500
TZOFFSETTO:-0400
TZNAME:EDT
DTSTART:20260308T070000
END:DAYLIGHT
BEGIN:STANDARD
TZOFFSETFROM:-0400
TZOFFSETTO:-0500
TZNAME:EST
DTSTART:20261101T060000
END:STANDARD
END:VTIMEZONE
BEGIN:VEVENT
DTSTART;TZID=America/New_York:20251011T080000
DTEND;TZID=America/New_York:20251011T120000
DTSTAMP:20260421T082251
CREATED:20251002T220827Z
LAST-MODIFIED:20251002T220827Z
UID:378614-1760169600-1760184000@wrbiradio.com
SUMMARY:Church Rummage Sale - St. Maurice in Napoleon
DESCRIPTION:Saturday\, October 11 – 8:00 Am – 12:00 Noon \n $3 Bag Day – Saturday \nPlants\, Christmas\, Household Items\, Linens\, Jewelry\, Toys\, Shoes\, Winter Clothing\, Surprises! \nSeveral Estate Items \nLocated in the Parish Hall 
URL:https://wrbiradio.com/event/church-rummage-sale-st-maurice-in-napoleon/
LOCATION:St. Maurice Church – Napoleon\, 8874 North Harrison St\, Napoleon\, IN\, 47034\, United States
END:VEVENT
BEGIN:VEVENT
DTSTART;TZID=America/New_York:20251011T100000
DTEND;TZID=America/New_York:20251011T110000
DTSTAMP:20260421T082251
CREATED:20251002T144701Z
LAST-MODIFIED:20251002T144701Z
UID:378603-1760176800-1760180400@wrbiradio.com
SUMMARY:Community Prayer Breakfast
DESCRIPTION:Join First Southern Baptist Church for donuts and coffee followed by prayer for the nation. 
URL:https://wrbiradio.com/event/community-prayer-breakfast/
LOCATION:First Southern Baptist Church\, 403 S Meridian Street\, Sunman\, IN\, 47041\, United States
END:VEVENT
END:VCALENDAR