BEGIN:VCALENDAR
VERSION:2.0
PRODID:-//WRBI Radio - ECPv6.15.17//NONSGML v1.0//EN
CALSCALE:GREGORIAN
METHOD:PUBLISH
X-ORIGINAL-URL:https://wrbiradio.com
X-WR-CALDESC:Events for WRBI Radio
REFRESH-INTERVAL;VALUE=DURATION:PT1H
X-Robots-Tag:noindex
X-PUBLISHED-TTL:PT1H
BEGIN:VTIMEZONE
TZID:America/New_York
BEGIN:DAYLIGHT
TZOFFSETFROM:-0500
TZOFFSETTO:-0400
TZNAME:EDT
DTSTART:20240310T070000
END:DAYLIGHT
BEGIN:STANDARD
TZOFFSETFROM:-0400
TZOFFSETTO:-0500
TZNAME:EST
DTSTART:20241103T060000
END:STANDARD
BEGIN:DAYLIGHT
TZOFFSETFROM:-0500
TZOFFSETTO:-0400
TZNAME:EDT
DTSTART:20250309T070000
END:DAYLIGHT
BEGIN:STANDARD
TZOFFSETFROM:-0400
TZOFFSETTO:-0500
TZNAME:EST
DTSTART:20251102T060000
END:STANDARD
BEGIN:DAYLIGHT
TZOFFSETFROM:-0500
TZOFFSETTO:-0400
TZNAME:EDT
DTSTART:20260308T070000
END:DAYLIGHT
BEGIN:STANDARD
TZOFFSETFROM:-0400
TZOFFSETTO:-0500
TZNAME:EST
DTSTART:20261101T060000
END:STANDARD
END:VTIMEZONE
BEGIN:VEVENT
DTSTART;TZID=America/New_York:20250930T093000
DTEND;TZID=America/New_York:20250930T113000
DTSTAMP:20260421T082338
CREATED:20250925T184749Z
LAST-MODIFIED:20250925T184749Z
UID:378137-1759224600-1759231800@wrbiradio.com
SUMMARY:Book Signing
DESCRIPTION:Christian Author and Contributing Writer to Chicken Soup for the Soul\, William Clark\, will be signing his Journey Home Trilogy in Greensburg (get books 1 and 3\, and book 2 is free)! \nCome to a fun gathering at The Branch Coffee House in downtown Greensburg on the square on Tuesday\, September 30th\, from 9:30 to 11:30. \nBooks by William Clark is non-profit. For ten years\, they have helped support the largest and oldest Homeless Mission in the nation\, Pacific Garden Mission. \nThere will be three drawings with special prizes. One drawing is for everyone! The second drawing is for customers. The third drawing is for Pacific Garden Mission supporters. \nClark will be signing his eight published books and his stories in Chicken Soup for the Soul. There will also be a vintage collection of children’s books from the past 70 years\, and a good selection of Chicken Soup for the Soul books. Christmas books and other popular Christmas items will also be available.
URL:https://wrbiradio.com/event/book-signing/
LOCATION:The Branch Coffee House\, 113 N Broadway\, Greensburg\, 47240\, United States
END:VEVENT
END:VCALENDAR