BEGIN:VCALENDAR
VERSION:2.0
PRODID:-//WRBI Radio - ECPv6.15.17//NONSGML v1.0//EN
CALSCALE:GREGORIAN
METHOD:PUBLISH
X-ORIGINAL-URL:https://wrbiradio.com
X-WR-CALDESC:Events for WRBI Radio
REFRESH-INTERVAL;VALUE=DURATION:PT1H
X-Robots-Tag:noindex
X-PUBLISHED-TTL:PT1H
BEGIN:VTIMEZONE
TZID:America/New_York
BEGIN:DAYLIGHT
TZOFFSETFROM:-0500
TZOFFSETTO:-0400
TZNAME:EDT
DTSTART:20240310T070000
END:DAYLIGHT
BEGIN:STANDARD
TZOFFSETFROM:-0400
TZOFFSETTO:-0500
TZNAME:EST
DTSTART:20241103T060000
END:STANDARD
BEGIN:DAYLIGHT
TZOFFSETFROM:-0500
TZOFFSETTO:-0400
TZNAME:EDT
DTSTART:20250309T070000
END:DAYLIGHT
BEGIN:STANDARD
TZOFFSETFROM:-0400
TZOFFSETTO:-0500
TZNAME:EST
DTSTART:20251102T060000
END:STANDARD
BEGIN:DAYLIGHT
TZOFFSETFROM:-0500
TZOFFSETTO:-0400
TZNAME:EDT
DTSTART:20260308T070000
END:DAYLIGHT
BEGIN:STANDARD
TZOFFSETFROM:-0400
TZOFFSETTO:-0500
TZNAME:EST
DTSTART:20261101T060000
END:STANDARD
END:VTIMEZONE
BEGIN:VEVENT
DTSTART;TZID=America/New_York:20250926T090000
DTEND;TZID=America/New_York:20250926T210000
DTSTAMP:20260421T082337
CREATED:20250917T020550Z
LAST-MODIFIED:20250917T020550Z
UID:377417-1758877200-1758920400@wrbiradio.com
SUMMARY:Franklin County Antique Machinery Club Show
DESCRIPTION:Friday\, September 26th\, 2025 \n9am – Opening Ceremony \n12 pm – Noon Whistle \n6 pm – Antique Tractor Pull Registration begins at 4pm \nDusk – Steam Engine Spark Show behind the sawmill \n  \nAll Day Events:  \nSawmill – powered by Steam Engines \nField Demonstrations – in the field behind the barn \nThreshing \nCorn shelling \nRock Crushing \nStraw Baling \nCorn Shredding \nHeritage Crafter Demonstrations in the cattle barn next to the show arena. \nPottery \nBroom Making \nChair Caning \nSpinning \nRope Making \nRug Twining \nPedal Sewing Machines \nFiber Arts \nWood Carvers \nand more… \nSteam Engines \nOld-Time Kitchen \nFairbanks Morse Oldenburg Engine \nBlacksmith Shop \nMilk House \nPrinting Press \nHit & Miss Engines \nLine Shaft Shop \n2 huge flea market areas
URL:https://wrbiradio.com/event/franklin-county-antique-machinery-club-show-3/
LOCATION:Franklin County Fairgrounds\, Brookville
END:VEVENT
BEGIN:VEVENT
DTSTART;TZID=America/New_York:20250926T173000
DTEND;TZID=America/New_York:20250926T213000
DTSTAMP:20260421T082337
CREATED:20250917T020044Z
LAST-MODIFIED:20250917T020044Z
UID:377411-1758907800-1758922200@wrbiradio.com
SUMMARY:Versailles Pumpkin Show
DESCRIPTION:Retro Night\nCome have fun and dress in your favorite decade!\n5:30pm-6:30pm Music by Mr. T’s Mohawk\n7:00pm-9:30pm Music by Sunday Drive
URL:https://wrbiradio.com/event/versailles-pumpkin-show-4/
LOCATION:Courthouse Square\, Versailles
END:VEVENT
END:VCALENDAR