BEGIN:VCALENDAR
VERSION:2.0
PRODID:-//WRBI Radio - ECPv6.15.17//NONSGML v1.0//EN
CALSCALE:GREGORIAN
METHOD:PUBLISH
X-WR-CALNAME:WRBI Radio
X-ORIGINAL-URL:https://wrbiradio.com
X-WR-CALDESC:Events for WRBI Radio
REFRESH-INTERVAL;VALUE=DURATION:PT1H
X-Robots-Tag:noindex
X-PUBLISHED-TTL:PT1H
BEGIN:VTIMEZONE
TZID:America/New_York
BEGIN:DAYLIGHT
TZOFFSETFROM:-0500
TZOFFSETTO:-0400
TZNAME:EDT
DTSTART:20240310T070000
END:DAYLIGHT
BEGIN:STANDARD
TZOFFSETFROM:-0400
TZOFFSETTO:-0500
TZNAME:EST
DTSTART:20241103T060000
END:STANDARD
BEGIN:DAYLIGHT
TZOFFSETFROM:-0500
TZOFFSETTO:-0400
TZNAME:EDT
DTSTART:20250309T070000
END:DAYLIGHT
BEGIN:STANDARD
TZOFFSETFROM:-0400
TZOFFSETTO:-0500
TZNAME:EST
DTSTART:20251102T060000
END:STANDARD
BEGIN:DAYLIGHT
TZOFFSETFROM:-0500
TZOFFSETTO:-0400
TZNAME:EDT
DTSTART:20260308T070000
END:DAYLIGHT
BEGIN:STANDARD
TZOFFSETFROM:-0400
TZOFFSETTO:-0500
TZNAME:EST
DTSTART:20261101T060000
END:STANDARD
END:VTIMEZONE
BEGIN:VEVENT
DTSTART;TZID=America/New_York:20250822T173000
DTEND;TZID=America/New_York:20250822T210000
DTSTAMP:20260421T095242
CREATED:20250727T154454Z
LAST-MODIFIED:20250727T154454Z
UID:374202-1755883800-1755896400@wrbiradio.com
SUMMARY:Music on the Square - Country Line Dance Night
DESCRIPTION:Grab your boots and bring the whole family for an evening of live country music\, fun\, and hometown vibes! \n Holdsworth Entertainment Pavilion\, 128 N Main Street\, Versailles\n Friday August 22\n 5:30 – 9 pm \nConcert with Diamondback 7-9 pm\nOpen Mic 5:30 – 6:30\nLine Dancing Lessons by Osgood Line Dancers 6:30 \nMechanical Bull Rides\, Hoppity Horses\, Roping Demonstrations\, Barrel Pong\, and more all evening! \nEnjoy great music\, food by Fuzztop’s Backyard Smoke Shack\, and a chance to connect with neighbors. \nDon’t forget your lawn chairs or blankets and coolers!
URL:https://wrbiradio.com/event/music-on-the-square-country-line-dance-night/
LOCATION:Holdsworth Entertainment Pavilion\, 128 N Main St\, Versailles\, IN\, 47042\, United States
END:VEVENT
END:VCALENDAR