BEGIN:VCALENDAR
VERSION:2.0
PRODID:-//WRBI Radio - ECPv6.15.17//NONSGML v1.0//EN
CALSCALE:GREGORIAN
METHOD:PUBLISH
X-ORIGINAL-URL:https://wrbiradio.com
X-WR-CALDESC:Events for WRBI Radio
REFRESH-INTERVAL;VALUE=DURATION:PT1H
X-Robots-Tag:noindex
X-PUBLISHED-TTL:PT1H
BEGIN:VTIMEZONE
TZID:America/New_York
BEGIN:DAYLIGHT
TZOFFSETFROM:-0500
TZOFFSETTO:-0400
TZNAME:EDT
DTSTART:20240310T070000
END:DAYLIGHT
BEGIN:STANDARD
TZOFFSETFROM:-0400
TZOFFSETTO:-0500
TZNAME:EST
DTSTART:20241103T060000
END:STANDARD
BEGIN:DAYLIGHT
TZOFFSETFROM:-0500
TZOFFSETTO:-0400
TZNAME:EDT
DTSTART:20250309T070000
END:DAYLIGHT
BEGIN:STANDARD
TZOFFSETFROM:-0400
TZOFFSETTO:-0500
TZNAME:EST
DTSTART:20251102T060000
END:STANDARD
BEGIN:DAYLIGHT
TZOFFSETFROM:-0500
TZOFFSETTO:-0400
TZNAME:EDT
DTSTART:20260308T070000
END:DAYLIGHT
BEGIN:STANDARD
TZOFFSETFROM:-0400
TZOFFSETTO:-0500
TZNAME:EST
DTSTART:20261101T060000
END:STANDARD
END:VTIMEZONE
BEGIN:VEVENT
DTSTART;TZID=America/New_York:20250802T080000
DTEND;TZID=America/New_York:20250802T120000
DTSTAMP:20260421T095236
CREATED:20250728T170045Z
LAST-MODIFIED:20250728T170045Z
UID:374304-1754121600-1754136000@wrbiradio.com
SUMMARY:Church Garage Sale at Solid Rock Bible Fellowship Church
DESCRIPTION:Saturday\, August 2 – 8AM-Noon \nHuge rummage and bake sale located in the fellowship hall at the corner of Harrison & Monroe Streets in Napoleon. \nSaturday: Bag sale and half price items.  \n\nBig sale with nice items \nFurniture\nClothing – all sizes\nToys\nDishes\nBooks\nDVDs\nPurses\nHome Decor\nMiscellaneous \n\nFor more information\, call 812-852-2172
URL:https://wrbiradio.com/event/church-garage-sale-at-solid-rock-bible-fellowship-church/
LOCATION:Solid Rock Bible Fellowship Church\, 8763 N. Napoleon/Harrison St.\, Napoleon\, Indiana\, 47034
END:VEVENT
BEGIN:VEVENT
DTSTART;TZID=America/New_York:20250802T090000
DTEND;TZID=America/New_York:20250802T110000
DTSTAMP:20260421T095236
CREATED:20250801T143003Z
LAST-MODIFIED:20250801T143003Z
UID:374558-1754125200-1754132400@wrbiradio.com
SUMMARY:1st Saturday Breakfast
DESCRIPTION:Open to the public! \nOption #1: \nBiscuits & Gravy\, 2 eggs to order\, hashbrowns\, 2 pieces of bacon or sausage \nOption #2: \n3 pancakes\, 2 pieces of bacon or sausage \nCoffee and Orange Juice with each meal
URL:https://wrbiradio.com/event/1st-saturday-breakfast/
LOCATION:Greensburg Eagles 927\, 920 E Main St\, Greensburg\, IN\, 47240\, United States
END:VEVENT
END:VCALENDAR