BEGIN:VCALENDAR
VERSION:2.0
PRODID:-//WRBI Radio - ECPv6.15.17//NONSGML v1.0//EN
CALSCALE:GREGORIAN
METHOD:PUBLISH
X-WR-CALNAME:WRBI Radio
X-ORIGINAL-URL:https://wrbiradio.com
X-WR-CALDESC:Events for WRBI Radio
REFRESH-INTERVAL;VALUE=DURATION:PT1H
X-Robots-Tag:noindex
X-PUBLISHED-TTL:PT1H
BEGIN:VTIMEZONE
TZID:America/New_York
BEGIN:DAYLIGHT
TZOFFSETFROM:-0500
TZOFFSETTO:-0400
TZNAME:EDT
DTSTART:20240310T070000
END:DAYLIGHT
BEGIN:STANDARD
TZOFFSETFROM:-0400
TZOFFSETTO:-0500
TZNAME:EST
DTSTART:20241103T060000
END:STANDARD
BEGIN:DAYLIGHT
TZOFFSETFROM:-0500
TZOFFSETTO:-0400
TZNAME:EDT
DTSTART:20250309T070000
END:DAYLIGHT
BEGIN:STANDARD
TZOFFSETFROM:-0400
TZOFFSETTO:-0500
TZNAME:EST
DTSTART:20251102T060000
END:STANDARD
BEGIN:DAYLIGHT
TZOFFSETFROM:-0500
TZOFFSETTO:-0400
TZNAME:EDT
DTSTART:20260308T070000
END:DAYLIGHT
BEGIN:STANDARD
TZOFFSETFROM:-0400
TZOFFSETTO:-0500
TZNAME:EST
DTSTART:20261101T060000
END:STANDARD
END:VTIMEZONE
BEGIN:VEVENT
DTSTART;TZID=America/New_York:20250425T080000
DTEND;TZID=America/New_York:20250425T235900
DTSTAMP:20260421T231411
CREATED:20250422T135602Z
LAST-MODIFIED:20250425T122143Z
UID:366811-1745568000-1745625540@wrbiradio.com
SUMMARY:BHS 2025 Graduation Yard Sign Orders Due
DESCRIPTION:Show the whole town your pride for your BHS 2025 graduate!  \n  \nGraduating from high school is an achievement worth celebrating! Don’t have a senior? Donate to a senior in need of support. (Chosen by BHS Guidance Counselors) \nRecognize your graduate’s accomplishments with a yard sign that symbolizes the graduate’s hard work\, dedication\, and academic success. \n  \nA graduation yard sign demonstrates to neighbors\, friends\, and passersby the pride you have for your 2025 Batesville High School Graduate. Brag on your senior! \n**It also makes a great graduation party decoration! \n  \nOrders AND payments must be received by 4/25. \n\nOrders after 4/25 will be charged a $5 late fee. Final Order Deadline is 5/9 @ 3pm.\n\n  \nFor more information\, click here. 
URL:https://wrbiradio.com/event/bhs-2025-graduation-yard-sign-orders-due/
LOCATION:IN
END:VEVENT
END:VCALENDAR